Workbook

Sheet INFO
B3: Age category calulator
B4: Current date | C4: =TODAY() -> 46286
B5: Race date | C5: 46284
B6: Year/month match? | C6: =IF(AND(YEAR(C5)=YEAR(C4),MONTH(C5)=MONTH(C4)),"Correct","CHECK DATE") -> Correct
B7: Category | C7: Born before | D7: Age by end of year | E7: Max distance
B8: U6 | C8: =DATE(YEAR(C5)-4,12,31) -> 44926 | D8: 3, 4, 5 | E8: -
B9: U8 | C9: =DATE(YEAR(C5)-6,12,31) -> 44196 | D9: 6, 7 | E9: -
B10: U10 | C10: =DATE(YEAR(C5)-8,12,31) -> 43465 | D10: 8, 9 | E10: 1.5km
B11: U12 | C11: =DATE(YEAR(C5)-10,12,31) -> 42735 | D11: 10, 11 | E11: 3km
B12: U14 | C12: =DATE(YEAR(C5)-12,12,31) -> 42004 | D12: 12, 13 | E12: 5km
B13: U16 | C13: =DATE(YEAR(C5)-14,12,31) -> 41274 | D13: 14, 15 | E13: 6km
B14: U18 | C14: =DATE(YEAR(C5)-16,12,31) -> 40543 | D14: 16, 17 | E14: 8km
B15: U20 | C15: =DATE(YEAR(C5)-18,12,31) -> 39813 | D15: 18, 19 | E15: 10km
B16: U23 | C16: =DATE(YEAR(C5)-20,12,31) -> 39082 | D16: 20, 21, 22 | E16: n/a
B17: SEN | C17: =DATE(YEAR(C5)-23,12,31) -> 37986
B18: V40 | C18: =DATE(YEAR(C5)-40,MONTH(C5),DAY(C5)) -> 31674
B19: V50 | C19: =DATE(YEAR(C5)-50,MONTH(C5),DAY(C5)) -> 28022
B20: V60 | C20: =DATE(YEAR(C5)-60,MONTH(C5),DAY(C5)) -> 24369
B21: V70 | C21: =DATE(YEAR(C5)-70,MONTH(C5),DAY(C5)) -> 20717
B22: V80 | C22: =DATE(YEAR(C5)-80,MONTH(C5),DAY(C5)) -> 17064
B24: Minimum age
B25: If minimum is (age, e.g. 16 or cat, e.g. U15) | C25: U18
B26: then must be born before | C26: {=IF(LEFT(C25,1)="U",_xlfn.XLOOKUP(C25,LEFT(B8:B16,3),C8:C16),DATE(YEAR(C5)-C25,MONTH(C5),DAY(C5)))} -> 40543

Sheet Competitor
A1: Forename | B1: Surname | C1: Club | D1: DOB | E1: ="Gender (M/F)" -> Gender (M/F) | F1: Category (Auto) | G1: Name (Auto)
A2: Ben | B2: Abdelnoor | C2: Ambleside AC | D2: 29448 | E2: M | F2: =IF(E2="","",_xlfn.CONCAT(E2,_xlfn.XLOOKUP(D2,INFO!$C$8:$C$22,INFO!$B$8:$B$22,"ERROR",1,-1))) -> MV40 | G2: =_xlfn.CONCAT(A2," ",B2) -> Ben Abdelnoor | H2: =IF(A2="","",COUNTIF($G$2:G2,G2)) -> 1 | I2: Correct? (manual highlight, e.g. spelling)
A3: Elizabeth | B3: Adams | C3: Derwent AC | D3: 29868 | E3: F | F3: =IF(E3="","",_xlfn.CONCAT(E3,_xlfn.XLOOKUP(D3,INFO!$C$8:$C$22,INFO!$B$8:$B$22,"ERROR",1,-1))) -> FV40 | G3: =_xlfn.CONCAT(A3," ",B3) -> Elizabeth Adams | H3: =IF(A3="","",COUNTIF($G$2:G3,G3)) -> 1 | I3: Duplicate (highlights name in last column)
A4: Jos | B4: Addison | C4: Helm Hill Runners | D4: 33941 | E4: M | F4: =IF(E4="","",_xlfn.CONCAT(E4,_xlfn.XLOOKUP(D4,INFO!$C$8:$C$22,INFO!$B$8:$B$22,"ERROR",1,-1))) -> MSEN | G4: =_xlfn.CONCAT(A4," ",B4) -> Jos Addison | H4: =IF(A4="","",COUNTIF($G$2:G4,G4)) -> 1 | I4: Too young (highlights DOB in red)
A5: Jacob | B5: Adkin | C5: Moorfoot Runners | D5: 35203 | E5: M | F5: =IF(E5="","",_xlfn.CONCAT(E5,_xlfn.XLOOKUP(D5,INFO!$C$8:$C$22,INFO!$B$8:$B$22,"ERROR",1,-1))) -> MSEN | G5: =_xlfn.CONCAT(A5," ",B5) -> Jacob Adkin | H5: =IF(A5="","",COUNTIF($G$2:G5,G5)) -> 1 | I5: U17, check age (where min often is)
A6: Scout | B6: Adkin | C6: HOKA EU | D6: 34197 | E6: F | F6: =IF(E6="","",_xlfn.CONCAT(E6,_xlfn.XLOOKUP(D6,INFO!$C$8:$C$22,INFO!$B$8:$B$22,"ERROR",1,-1))) -> FSEN | G6: =_xlfn.CONCAT(A6," ",B6) -> Scout Adkin | H6: =IF(A6="","",COUNTIF($G$2:G6,G6)) -> 1
A7: Jack | B7: Agnew | C7: Mercia Fell Runners | D7: 34960 | E7: M | F7: =IF(E7="","",_xlfn.CONCAT(E7,_xlfn.XLOOKUP(D7,INFO!$C$8:$C$22,INFO!$B$8:$B$22,"ERROR",1,-1))) -> MSEN | G7: =_xlfn.CONCAT(A7," ",B7) -> Jack Agnew | H7: =IF(A7="","",COUNTIF($G$2:G7,G7)) -> 1
A8: Keith | B8: Ainslie | C8: Dumfries Harriers | D8: 23230 | E8: M | F8: =IF(E8="","",_xlfn.CONCAT(E8,_xlfn.XLOOKUP(D8,INFO!$C$8:$C$22,INFO!$B$8:$B$22,"ERROR",1,-1))) -> MV60 | G8: =_xlfn.CONCAT(A8," ",B8) -> Keith Ainslie | H8: =IF(A8="","",COUNTIF($G$2:G8,G8)) -> 1
A9: Maddie | B9: Ainsworth | C9: Unattached | D9: 35688 | E9: F | F9: =IF(E9="","",_xlfn.CONCAT(E9,_xlfn.XLOOKUP(D9,INFO!$C$8:$C$22,INFO!$B$8:$B$22,"ERROR",1,-1))) -> FSEN | G9: =_xlfn.CONCAT(A9," ",B9) -> Maddie Ainsworth | H9: =IF(A9="","",COUNTIF($G$2:G9,G9)) -> 1
A10: Neil | B10: Ainsworth | C10: Unattached | D10: 24294 | E10: M | F10: =IF(E10="","",_xlfn.CONCAT(E10,_xlfn.XLOOKUP(D10,INFO!$C$8:$C$22,INFO!$B$8:$B$22,"ERROR",1,-1))) -> MV60 | G10: =_xlfn.CONCAT(A10," ",B10) -> Neil Ainsworth | H10: =IF(A10="","",COUNTIF($G$2:G10,G10)) -> 1
A11: Paul | B11: Aitken | C11: Helm Hill Runners | D11: 29241 | E11: M | F11: =IF(E11="","",_xlfn.CONCAT(E11,_xlfn.XLOOKUP(D11,INFO!$C$8:$C$22,INFO!$B$8:$B$22,"ERROR",1,-1))) -> MV40 | G11: =_xlfn.CONCAT(A11," ",B11) -> Paul Aitken | H11: =IF(A11="","",COUNTIF($G$2:G11,G11)) -> 1
A12: Isa | B12: Alam | C12: Unattached | D12: 37372 | E12: M | F12: =IF(E12="","",_xlfn.CONCAT(E12,_xlfn.XLOOKUP(D12,INFO!$C$8:$C$22,INFO!$B$8:$B$22,"ERROR",1,-1))) -> MSEN | G12: =_xlfn.CONCAT(A12," ",B12) -> Isa Alam | H12: =IF(A12="","",COUNTIF($G$2:G12,G12)) -> 1
A13: Sam | B13: Alexander | C13: Westerlands CCC | D13: 33018 | E13: M | F13: =IF(E13="","",_xlfn.CONCAT(E13,_xlfn.XLOOKUP(D13,INFO!$C$8:$C$22,INFO!$B$8:$B$22,"ERROR",1,-1))) -> MSEN | G13: =_xlfn.CONCAT(A13," ",B13) -> Sam Alexander | H13: =IF(A13="","",COUNTIF($G$2:G13,G13)) -> 1
A14: Carl | B14: Algeo | C14: Northern Fells Running Club | D14: 33735 | E14: M | F14: =IF(E14="","",_xlfn.CONCAT(E14,_xlfn.XLOOKUP(D14,INFO!$C$8:$C$22,INFO!$B$8:$B$22,"ERROR",1,-1))) -> MSEN | G14: =_xlfn.CONCAT(A14," ",B14) -> Carl Algeo | H14: =IF(A14="","",COUNTIF($G$2:G14,G14)) -> 1
A15: Jason | B15: Allard | C15: Derwent AC | D15: 27228 | E15: M | F15: =IF(E15="","",_xlfn.CONCAT(E15,_xlfn.XLOOKUP(D15,INFO!$C$8:$C$22,INFO!$B$8:$B$22,"ERROR",1,-1))) -> MV50 | G15: =_xlfn.CONCAT(A15," ",B15) -> Jason Allard | H15: =IF(A15="","",COUNTIF($G$2:G15,G15)) -> 1
A16: Sophie | B16: Allen | C16: Ambleside AC | D16: 34586 | E16: F | F16: =IF(E16="","",_xlfn.CONCAT(E16,_xlfn.XLOOKUP(D16,INFO!$C$8:$C$22,INFO!$B$8:$B$22,"ERROR",1,-1))) -> FSEN | G16: =_xlfn.CONCAT(A16," ",B16) -> Sophie Allen | H16: =IF(A16="","",COUNTIF($G$2:G16,G16)) -> 1
A17: Clive | B17: Allen | C17: Helm Hill Runners | D17: 23150 | E17: M | F17: =IF(E17="","",_xlfn.CONCAT(E17,_xlfn.XLOOKUP(D17,INFO!$C$8:$C$22,INFO!$B$8:$B$22,"ERROR",1,-1))) -> MV60 | G17: =_xlfn.CONCAT(A17," ",B17) -> Clive Allen | H17: =IF(A17="","",COUNTIF($G$2:G17,G17)) -> 1
... A1807: Joe | B1807: bloggs | C1807: Keswick AC | D1807: 36526 | E1807: M | F1807: =IF(E1807="","",_xlfn.CONCAT(E1807,_xlfn.XLOOKUP(D1807,INFO!$C$8:$C$22,INFO!$B$8:$B$22,"ERROR",1,-1))) -> MSEN | G1807: =_xlfn.CONCAT(A1807," ",B1807) -> Joe bloggs | H1807: =IF(A1807="","",COUNTIF($G$2:G1807,G1807)) -> 1
A1808: Jo | B1808: Armistead | C1808: Settle Harriers | E1808: F | F1808: FV40 | G1808: =_xlfn.CONCAT(A1808," ",B1808) -> Jo Armistead | H1808: =IF(A1808="","",COUNTIF($G$2:G1808,G1808)) -> 1
A1809: Dominique | B1809: Ashford | C1809: Settle Harriers | D1809: 26375 | E1809: F | F1809: FV50 | G1809: =_xlfn.CONCAT(A1809," ",B1809) -> Dominique Ashford | H1809: =IF(A1809="","",COUNTIF($G$2:G1809,G1809)) -> 1
A1810: Bryony | B1810: Boutell | C1810: Garstang Running Club | D1810: 31321 | E1810: F | F1810: FV40 | G1810: =_xlfn.CONCAT(A1810," ",B1810) -> Bryony Boutell | H1810: =IF(A1810="","",COUNTIF($G$2:G1810,G1810)) -> 1
A1811: Caroline | B1811: Cattini-Dow | C1811: Keswick AC | E1811: F | F1811: FV50 | G1811: =_xlfn.CONCAT(A1811," ",B1811) -> Caroline Cattini-Dow | H1811: =IF(A1811="","",COUNTIF($G$2:G1811,G1811)) -> 1
A1812: Nick | B1812: Cheek | C1812: Settle Harriers | E1812: M | F1812: MV40 | G1812: =_xlfn.CONCAT(A1812," ",B1812) -> Nick Cheek | H1812: =IF(A1812="","",COUNTIF($G$2:G1812,G1812)) -> 1
A1813: Steven | B1813: Gibson | C1813: Red Rose Road Runners | E1813: M | F1813: MV40 | G1813: =_xlfn.CONCAT(A1813," ",B1813) -> Steven Gibson | H1813: =IF(A1813="","",COUNTIF($G$2:G1813,G1813)) -> 1
A1814: James | B1814: Hall | C1814: Wharfedale Harriers | D1814: 35148 | E1814: M | F1814: MSEN | G1814: =_xlfn.CONCAT(A1814," ",B1814) -> James Hall | H1814: =IF(A1814="","",COUNTIF($G$2:G1814,G1814)) -> 1
A1815: Nick | B1815: Harris | C1815: Rossendale Harriers | E1815: M | F1815: MV70 | G1815: =_xlfn.CONCAT(A1815," ",B1815) -> Nick Harris | H1815: =IF(A1815="","",COUNTIF($G$2:G1815,G1815)) -> 1
A1816: Glen | B1816: Johnson | C1816: Tadcaster Harriers | D1816: 24036 | E1816: M | F1816: MV60 | G1816: =_xlfn.CONCAT(A1816," ",B1816) -> Glen Johnson | H1816: =IF(A1816="","",COUNTIF($G$2:G1816,G1816)) -> 1
A1817: Joseph | B1817: Law | C1817: Unattached | D1817: 36417 | E1817: M | F1817: MSEN | G1817: =_xlfn.CONCAT(A1817," ",B1817) -> Joseph Law | H1817: =IF(A1817="","",COUNTIF($G$2:G1817,G1817)) -> 1
A1818: Daniel | B1818: Marshall | C1818: Unattached | D1818: 34892 | E1818: M | F1818: MSEN | G1818: =_xlfn.CONCAT(A1818," ",B1818) -> Daniel Marshall | H1818: =IF(A1818="","",COUNTIF($G$2:G1818,G1818)) -> 1
A1819: Cath | B1819: Musetti | C1819: Ambleside AC | D1819: 23382 | E1819: F | F1819: FV60 | G1819: =_xlfn.CONCAT(A1819," ",B1819) -> Cath Musetti | H1819: =IF(A1819="","",COUNTIF($G$2:G1819,G1819)) -> 1
A1820: Jane | B1820: Reedy | C1820: Ambleside AC | D1820: 27765 | E1820: F | F1820: FV50 | G1820: =_xlfn.CONCAT(A1820," ",B1820) -> Jane Reedy | H1820: =IF(A1820="","",COUNTIF($G$2:G1820,G1820)) -> 1
A1821: Andy | B1821: Shinn | C1821: Ilkley Harriers AC | D1821: 27761 | E1821: M | F1821: MV50 | G1821: =_xlfn.CONCAT(A1821," ",B1821) -> Andy Shinn | H1821: =IF(A1821="","",COUNTIF($G$2:G1821,G1821)) -> 1
A1822: Kirsty | B1822: Struthers | C1822: North York Moors AC | D1822: 31602 | E1822: F | F1822: FV40 | G1822: =_xlfn.CONCAT(A1822," ",B1822) -> Kirsty Struthers | H1822: =IF(A1822="","",COUNTIF($G$2:G1822,G1822)) -> 1
A1823: Helen | B1823: Ilsley | C1823: Homfirth Harriers | D1823: 28034 | E1823: F | F1823: FV40 | G1823: =_xlfn.CONCAT(A1823," ",B1823) -> Helen Ilsley | H1823: =IF(A1823="","",COUNTIF($G$2:G1823,G1823)) -> 1
A1824: Sarah | B1824: Jones-Morris | C1824: Helm Hill Runners | D1824: 26852 | E1824: F | F1824: FV50 | G1824: =_xlfn.CONCAT(A1824," ",B1824) -> Sarah Jones-Morris | H1824: =IF(A1824="","",COUNTIF($G$2:G1824,G1824)) -> 1
A1825: Anastasiia | B1825: Koidan | C1825: Unattched | D1825: 37419 | E1825: F | F1825: FSEN | G1825: =_xlfn.CONCAT(A1825," ",B1825) -> Anastasiia Koidan | H1825: =IF(A1825="","",COUNTIF($G$2:G1825,G1825)) -> 1
A1826: Catherine | B1826: Bonn | C1826: Northumberland fell Runners | D1826: 34451 | E1826: F | F1826: FSEN | G1826: =_xlfn.CONCAT(A1826," ",B1826) -> Catherine Bonn | H1826: =IF(A1826="","",COUNTIF($G$2:G1826,G1826)) -> 1
A1827: Owen | B1827: Williams | C1827: Northumberland fell Runners | D1827: 33892 | E1827: M | F1827: MSEN | G1827: =_xlfn.CONCAT(A1827," ",B1827) -> Owen Williams | H1827: =IF(A1827="","",COUNTIF($G$2:G1827,G1827)) -> 1
A1828: Jessica | B1828: Ivin | C1828: Lochaber AC | D1828: 36692 | E1828: F | F1828: FSEN | G1828: =_xlfn.CONCAT(A1828," ",B1828) -> Jessica Ivin | H1828: =IF(A1828="","",COUNTIF($G$2:G1828,G1828)) -> 1
F1829: =IF(E1829="","",_xlfn.CONCAT(E1829,_xlfn.XLOOKUP(D1829,INFO!$C$8:$C$22,INFO!$B$8:$B$22,"ERROR",1,-1))) | G1829: =_xlfn.CONCAT(A1829," ",B1829) | H1829: =IF(A1829="","",COUNTIF($G$2:G1829,G1829))
...

Sheet STARTLIST
A1: Race No. | B1: Name (use full name) | C1: Club | D1: Category | F1: Finished
A2: 1 | B2: Helen Ilsley | C2: Holmfirth Harriers | D2: =IF(B2="","",_xlfn.XLOOKUP(B2,Competitor!G$2:G$9888,Competitor!F$2:F$9888,"NEW COMPETITOR",0,-1)) -> FV40 | F2: =_xlfn.XLOOKUP(A2,INPUT!$G$3:$G$202,INPUT!$H$3:$H$202,"Error") -> yes
A3: 2 | B3: Jack Ilsley | C3: Holmfirth Harriers | D3: MU23 | F3: =_xlfn.XLOOKUP(A3,INPUT!$G$3:$G$202,INPUT!$H$3:$H$202,"Error") -> yes
A4: 3 | B4: Bryony Boutell | C4: Garstang Running Club | D4: FV40 | F4: =_xlfn.XLOOKUP(A4,INPUT!$G$3:$G$202,INPUT!$H$3:$H$202,"Error") -> yes
A5: 4 | B5: Andrew Bromley | C5: =IF(B5="","",_xlfn.XLOOKUP(B5,Competitor!G$2:G$9888,Competitor!C$2:C$9888,"NEW COMPETITOR",0)) -> Netherhall AC | D5: =IF(B5="","",_xlfn.XLOOKUP(B5,Competitor!G$2:G$9888,Competitor!F$2:F$9888,"NEW COMPETITOR",0,-1)) -> MV40 | F5: =_xlfn.XLOOKUP(A5,INPUT!$G$3:$G$202,INPUT!$H$3:$H$202,"Error") -> yes
A6: 5 | B6: Tim Campbell | C6: Eden runners | D6: MV50 | F6: =_xlfn.XLOOKUP(A6,INPUT!$G$3:$G$202,INPUT!$H$3:$H$202,"Error") -> yes
D7: =IF(B7="","",_xlfn.XLOOKUP(B7,Competitor!G$2:G$9888,Competitor!F$2:F$9888,"NEW COMPETITOR",0,-1)) | F7: =_xlfn.XLOOKUP(A7,INPUT!$G$3:$G$202,INPUT!$H$3:$H$202,"Error")
A8: 7 | B8: Carol Cervenak | C8: =IF(B8="","",_xlfn.XLOOKUP(B8,Competitor!G$2:G$9888,Competitor!C$2:C$9888,"NEW COMPETITOR",0)) -> Unattached | D8: =IF(B8="","",_xlfn.XLOOKUP(B8,Competitor!G$2:G$9888,Competitor!F$2:F$9888,"NEW COMPETITOR",0,-1)) -> FV60 | F8: =_xlfn.XLOOKUP(A8,INPUT!$G$3:$G$202,INPUT!$H$3:$H$202,"Error") -> yes
A9: 8 | B9: Sarah Jones-Morris | C9: Helm Hill | D9: FV50 | F9: =_xlfn.XLOOKUP(A9,INPUT!$G$3:$G$202,INPUT!$H$3:$H$202,"Error") -> yes
C10: =IF(B10="","",_xlfn.XLOOKUP(B10,Competitor!G$2:G$9888,Competitor!C$2:C$9888,"NEW COMPETITOR",0)) | D10: =IF(B10="","",_xlfn.XLOOKUP(B10,Competitor!G$2:G$9888,Competitor!F$2:F$9888,"NEW COMPETITOR",0,-1)) | F10: =_xlfn.XLOOKUP(A10,INPUT!$G$3:$G$202,INPUT!$H$3:$H$202,"Error")
A11: 10 | B11: Joseph Fell | C11: =IF(B11="","",_xlfn.XLOOKUP(B11,Competitor!G$2:G$9888,Competitor!C$2:C$9888,"NEW COMPETITOR",0)) -> Eden Runners | D11: =IF(B11="","",_xlfn.XLOOKUP(B11,Competitor!G$2:G$9888,Competitor!F$2:F$9888,"NEW COMPETITOR",0,-1)) -> MSEN | F11: =_xlfn.XLOOKUP(A11,INPUT!$G$3:$G$202,INPUT!$H$3:$H$202,"Error") -> yes
D12: =IF(B12="","",_xlfn.XLOOKUP(B12,Competitor!G$2:G$9888,Competitor!F$2:F$9888,"NEW COMPETITOR",0,-1)) | F12: =_xlfn.XLOOKUP(A12,INPUT!$G$3:$G$202,INPUT!$H$3:$H$202,"Error")
A13: 12 | B13: Ed Gamble | C13: =IF(B13="","",_xlfn.XLOOKUP(B13,Competitor!G$2:G$9888,Competitor!C$2:C$9888,"NEW COMPETITOR",0)) -> Keswick AC | D13: =IF(B13="","",_xlfn.XLOOKUP(B13,Competitor!G$2:G$9888,Competitor!F$2:F$9888,"NEW COMPETITOR",0,-1)) -> MV60 | F13: =_xlfn.XLOOKUP(A13,INPUT!$G$3:$G$202,INPUT!$H$3:$H$202,"Error") -> yes
F14: =_xlfn.XLOOKUP(A14,INPUT!$G$3:$G$202,INPUT!$H$3:$H$202,"Error")
A15: 14 | B15: James Hall | C15: =IF(B15="","",_xlfn.XLOOKUP(B15,Competitor!G$2:G$9888,Competitor!C$2:C$9888,"NEW COMPETITOR",0)) -> Wharfedale Harriers | D15: =IF(B15="","",_xlfn.XLOOKUP(B15,Competitor!G$2:G$9888,Competitor!F$2:F$9888,"NEW COMPETITOR",0,-1)) -> MSEN | F15: =_xlfn.XLOOKUP(A15,INPUT!$G$3:$G$202,INPUT!$H$3:$H$202,"Error") -> yes
C16: =IF(B16="","",_xlfn.XLOOKUP(B16,Competitor!G$2:G$9888,Competitor!C$2:C$9888,"NEW COMPETITOR",0)) | D16: =IF(B16="","",_xlfn.XLOOKUP(B16,Competitor!G$2:G$9888,Competitor!F$2:F$9888,"NEW COMPETITOR",0,-1)) | F16: =_xlfn.XLOOKUP(A16,INPUT!$G$3:$G$202,INPUT!$H$3:$H$202,"Error")
A17: 16 | B17: Tim Hooper | C17: =IF(B17="","",_xlfn.XLOOKUP(B17,Competitor!G$2:G$9888,Competitor!C$2:C$9888,"NEW COMPETITOR",0)) -> Unattached | D17: =IF(B17="","",_xlfn.XLOOKUP(B17,Competitor!G$2:G$9888,Competitor!F$2:F$9888,"NEW COMPETITOR",0,-1)) -> MV60 | F17: =_xlfn.XLOOKUP(A17,INPUT!$G$3:$G$202,INPUT!$H$3:$H$202,"Error") -> yes
A18: 17 | B18: Glen Johnson | C18: =IF(B18="","",_xlfn.XLOOKUP(B18,Competitor!G$2:G$9888,Competitor!C$2:C$9888,"NEW COMPETITOR",0)) -> Tadcaster Harriers | D18: =IF(B18="","",_xlfn.XLOOKUP(B18,Competitor!G$2:G$9888,Competitor!F$2:F$9888,"NEW COMPETITOR",0,-1)) -> MV60 | F18: =_xlfn.XLOOKUP(A18,INPUT!$G$3:$G$202,INPUT!$H$3:$H$202,"Error") -> yes
A19: 18 | B19: Joseph Law | C19: Tyne Bridge Harriers | D19: =IF(B19="","",_xlfn.XLOOKUP(B19,Competitor!G$2:G$9888,Competitor!F$2:F$9888,"NEW COMPETITOR",0,-1)) -> MSEN | F19: =_xlfn.XLOOKUP(A19,INPUT!$G$3:$G$202,INPUT!$H$3:$H$202,"Error") -> yes
A20: 19 | B20: Jill Libby | C20: =IF(B20="","",_xlfn.XLOOKUP(B20,Competitor!G$2:G$9888,Competitor!C$2:C$9888,"NEW COMPETITOR",0)) -> Eden Runners | D20: =IF(B20="","",_xlfn.XLOOKUP(B20,Competitor!G$2:G$9888,Competitor!F$2:F$9888,"NEW COMPETITOR",0,-1)) -> FV60 | F20: =_xlfn.XLOOKUP(A20,INPUT!$G$3:$G$202,INPUT!$H$3:$H$202,"Error") -> yes
A21: 20 | B21: Stephen Libby | C21: =IF(B21="","",_xlfn.XLOOKUP(B21,Competitor!G$2:G$9888,Competitor!C$2:C$9888,"NEW COMPETITOR",0)) -> Eden Runners | D21: =IF(B21="","",_xlfn.XLOOKUP(B21,Competitor!G$2:G$9888,Competitor!F$2:F$9888,"NEW COMPETITOR",0,-1)) -> MV60 | F21: =_xlfn.XLOOKUP(A21,INPUT!$G$3:$G$202,INPUT!$H$3:$H$202,"Error") -> yes
A22: 21 | B22: Ralph Liddell | C22: =IF(B22="","",_xlfn.XLOOKUP(B22,Competitor!G$2:G$9888,Competitor!C$2:C$9888,"NEW COMPETITOR",0)) -> Eden Runners | D22: =IF(B22="","",_xlfn.XLOOKUP(B22,Competitor!G$2:G$9888,Competitor!F$2:F$9888,"NEW COMPETITOR",0,-1)) -> MV70 | F22: =_xlfn.XLOOKUP(A22,INPUT!$G$3:$G$202,INPUT!$H$3:$H$202,"Error") -> yes
A23: 22 | B23: Daniel Marshall | C23: Unattached | D23: MSEN | F23: =_xlfn.XLOOKUP(A23,INPUT!$G$3:$G$202,INPUT!$H$3:$H$202,"Error") -> yes
A24: 23 | B24: David McCabe | C24: =IF(B24="","",_xlfn.XLOOKUP(B24,Competitor!G$2:G$9888,Competitor!C$2:C$9888,"NEW COMPETITOR",0)) -> Trawden Athletic | D24: =IF(B24="","",_xlfn.XLOOKUP(B24,Competitor!G$2:G$9888,Competitor!F$2:F$9888,"NEW COMPETITOR",0,-1)) -> MV50 | F24: =_xlfn.XLOOKUP(A24,INPUT!$G$3:$G$202,INPUT!$H$3:$H$202,"Error") -> yes
A25: 24 | B25: Cath Musetti | C25: =IF(B25="","",_xlfn.XLOOKUP(B25,Competitor!G$2:G$9888,Competitor!C$2:C$9888,"NEW COMPETITOR",0)) -> Ambleside AC | D25: =IF(B25="","",_xlfn.XLOOKUP(B25,Competitor!G$2:G$9888,Competitor!F$2:F$9888,"NEW COMPETITOR",0,-1)) -> FV60 | F25: =_xlfn.XLOOKUP(A25,INPUT!$G$3:$G$202,INPUT!$H$3:$H$202,"Error") -> yes
A26: 25 | B26: Jane Reedy | C26: Ambleside AC | D26: FV50 | F26: =_xlfn.XLOOKUP(A26,INPUT!$G$3:$G$202,INPUT!$H$3:$H$202,"Error") -> yes
A27: 26 | B27: Andy Shinn | C27: =IF(B27="","",_xlfn.XLOOKUP(B27,Competitor!G$2:G$9888,Competitor!C$2:C$9888,"NEW COMPETITOR",0)) -> Ilkley Harriers AC | D27: =IF(B27="","",_xlfn.XLOOKUP(B27,Competitor!G$2:G$9888,Competitor!F$2:F$9888,"NEW COMPETITOR",0,-1)) -> MV50 | F27: =_xlfn.XLOOKUP(A27,INPUT!$G$3:$G$202,INPUT!$H$3:$H$202,"Error") -> yes
A28: 27 | B28: Kirsty Struthers | C28: North York Moors AC | D28: =IF(B28="","",_xlfn.XLOOKUP(B28,Competitor!G$2:G$9888,Competitor!F$2:F$9888,"NEW COMPETITOR",0,-1)) -> FV40 | F28: =_xlfn.XLOOKUP(A28,INPUT!$G$3:$G$202,INPUT!$H$3:$H$202,"Error") -> yes
A29: 28 | B29: Jonathan Tombs | C29: =IF(B29="","",_xlfn.XLOOKUP(B29,Competitor!G$2:G$9888,Competitor!C$2:C$9888,"NEW COMPETITOR",0)) -> Eden Runners | D29: =IF(B29="","",_xlfn.XLOOKUP(B29,Competitor!G$2:G$9888,Competitor!F$2:F$9888,"NEW COMPETITOR",0,-1)) -> MV50 | F29: =_xlfn.XLOOKUP(A29,INPUT!$G$3:$G$202,INPUT!$H$3:$H$202,"Error") -> yes
A30: 29 | B30: Colin Valentine | C30: =IF(B30="","",_xlfn.XLOOKUP(B30,Competitor!G$2:G$9888,Competitor!C$2:C$9888,"NEW COMPETITOR",0)) -> Keswick AC | D30: =IF(B30="","",_xlfn.XLOOKUP(B30,Competitor!G$2:G$9888,Competitor!F$2:F$9888,"NEW COMPETITOR",0,-1)) -> MV60 | F30: =_xlfn.XLOOKUP(A30,INPUT!$G$3:$G$202,INPUT!$H$3:$H$202,"Error") -> yes
A31: 30 | B31: Kester Webb | C31: =IF(B31="","",_xlfn.XLOOKUP(B31,Competitor!G$2:G$9888,Competitor!C$2:C$9888,"NEW COMPETITOR",0)) -> Keswick AC | D31: =IF(B31="","",_xlfn.XLOOKUP(B31,Competitor!G$2:G$9888,Competitor!F$2:F$9888,"NEW COMPETITOR",0,-1)) -> MSEN | F31: =_xlfn.XLOOKUP(A31,INPUT!$G$3:$G$202,INPUT!$H$3:$H$202,"Error") -> yes
A32: 31 | B32: Emma Wilkins | C32: =IF(B32="","",_xlfn.XLOOKUP(B32,Competitor!G$2:G$9888,Competitor!C$2:C$9888,"NEW COMPETITOR",0)) -> Cumberland Fell Runners | D32: =IF(B32="","",_xlfn.XLOOKUP(B32,Competitor!G$2:G$9888,Competitor!F$2:F$9888,"NEW COMPETITOR",0,-1)) -> FSEN | F32: =_xlfn.XLOOKUP(A32,INPUT!$G$3:$G$202,INPUT!$H$3:$H$202,"Error") -> yes
C33: =IF(B33="","",_xlfn.XLOOKUP(B33,Competitor!G$2:G$9888,Competitor!C$2:C$9888,"NEW COMPETITOR",0)) | D33: =IF(B33="","",_xlfn.XLOOKUP(B33,Competitor!G$2:G$9888,Competitor!F$2:F$9888,"NEW COMPETITOR",0,-1)) | F33: =_xlfn.XLOOKUP(A33,INPUT!$G$3:$G$202,INPUT!$H$3:$H$202,"Error")
A34: 33 | B34: Dominique Ashford | C34: Settle Harriers | D34: FV50 | F34: =_xlfn.XLOOKUP(A34,INPUT!$G$3:$G$202,INPUT!$H$3:$H$202,"Error") -> yes
A35: 34 | B35: Anastasiia Koidan | C35: =IF(B35="","",_xlfn.XLOOKUP(B35,Competitor!G$2:G$9888,Competitor!C$2:C$9888,"NEW COMPETITOR",0)) -> Unattched | D35: =IF(B35="","",_xlfn.XLOOKUP(B35,Competitor!G$2:G$9888,Competitor!F$2:F$9888,"NEW COMPETITOR",0,-1)) -> FSEN | F35: =_xlfn.XLOOKUP(A35,INPUT!$G$3:$G$202,INPUT!$H$3:$H$202,"Error") -> yes
A36: 35 | B36: Tom Finch | C36: =IF(B36="","",_xlfn.XLOOKUP(B36,Competitor!G$2:G$9888,Competitor!C$2:C$9888,"NEW COMPETITOR",0)) -> Westerlands CCC | D36: =IF(B36="","",_xlfn.XLOOKUP(B36,Competitor!G$2:G$9888,Competitor!F$2:F$9888,"NEW COMPETITOR",0,-1)) -> MSEN | F36: =_xlfn.XLOOKUP(A36,INPUT!$G$3:$G$202,INPUT!$H$3:$H$202,"Error") -> yes
A37: 36 | B37: Neil Weightman | C37: =IF(B37="","",_xlfn.XLOOKUP(B37,Competitor!G$2:G$9888,Competitor!C$2:C$9888,"NEW COMPETITOR",0)) -> Eden Runners | D37: =IF(B37="","",_xlfn.XLOOKUP(B37,Competitor!G$2:G$9888,Competitor!F$2:F$9888,"NEW COMPETITOR",0,-1)) -> MV60 | F37: =_xlfn.XLOOKUP(A37,INPUT!$G$3:$G$202,INPUT!$H$3:$H$202,"Error") -> yes
A38: 37 | B38: John Duff | C38: =IF(B38="","",_xlfn.XLOOKUP(B38,Competitor!G$2:G$9888,Competitor!C$2:C$9888,"NEW COMPETITOR",0)) -> Keswick AC | D38: =IF(B38="","",_xlfn.XLOOKUP(B38,Competitor!G$2:G$9888,Competitor!F$2:F$9888,"NEW COMPETITOR",0,-1)) -> MV50 | F38: =_xlfn.XLOOKUP(A38,INPUT!$G$3:$G$202,INPUT!$H$3:$H$202,"Error") -> yes
A39: 38 | B39: Catherine Bonn | C39: =IF(B39="","",_xlfn.XLOOKUP(B39,Competitor!G$2:G$9888,Competitor!C$2:C$9888,"NEW COMPETITOR",0)) -> Northumberland fell Runners | D39: =IF(B39="","",_xlfn.XLOOKUP(B39,Competitor!G$2:G$9888,Competitor!F$2:F$9888,"NEW COMPETITOR",0,-1)) -> FSEN | F39: =_xlfn.XLOOKUP(A39,INPUT!$G$3:$G$202,INPUT!$H$3:$H$202,"Error") -> yes
A40: 39 | B40: Owen Williams | C40: Northumberland Fell Runners | D40: MSEN | F40: =_xlfn.XLOOKUP(A40,INPUT!$G$3:$G$202,INPUT!$H$3:$H$202,"Error") -> yes
...

Sheet INPUT
A1: Positon | B1: Race number | C1: Time (hh:mm:ss) | D1: Match? | E1: Pos / num | F1: Close? | G1: Started | H1: Finished | I1: To finish
A2: 0 | B2: Duplicate | E2: diff:
A3: 1 | B3: 41 | C3: 0.057951389 | D3: =IF(B3=A3,"Match!","") | E3: =IF(B3="","",ABS(B3-A3)) -> 40 | F3: =IF(B3="","",IF(E3=SMALL($E$3:$E$202,1),"Close!","")) -> #REF! | G3: {=_xlfn._xlws.FILTER(STARTLIST!A2:A156,ISNUMBER(STARTLIST!A2:A156))} -> 1 | H3: =IF(G3="","",IF(COUNTIF($B$3:$B$202,G3)>=1,"yes","no")) -> yes | I3: {=_xlfn._xlws.SORT(_xlfn._xlws.FILTER(STARTLIST!A2:D201,STARTLIST!F2:F201="no"),1,1,)} -> 46 | J3: 0
A4: 2 | B4: 42 | C4: 0.059907407 | D4: =IF(B4=A4,"Match!","") | E4: =IF(B4="","",ABS(B4-A4)) -> 40 | F4: =IF(B4="","",IF(E4=SMALL($E$3:$E$202,1),"Close!","")) -> #REF! | G4: 2 | H4: =IF(G4="","",IF(COUNTIF($B$3:$B$202,G4)>=1,"yes","no")) -> yes | I4: 47 | J4: 0
A5: 3 | B5: 5 | C5: 0.060104167 | D5: =IF(B6=A5,"Match!","") | E5: =IF(B6="","",ABS(B6-A5)) -> 42 | F5: =IF(B6="","",IF(E5=SMALL($E$3:$E$202,1),"Close!","")) -> #REF! | G5: 3 | H5: =IF(G5="","",IF(COUNTIF($B$3:$B$202,G5)>=1,"yes","no")) -> yes | I5: 48 | J5: 0
A6: 4 | B6: 45 | C6: 0.063784722 | D6: =IF(B7=A6,"Match!","") | E6: =IF(#REF!="","",ABS(#REF!-A6)) -> #REF! | F6: =IF(#REF!="","",IF(E6=SMALL($E$3:$E$202,1),"Close!","")) -> #REF! | G6: 4 | H6: =IF(G6="","",IF(COUNTIF($B$3:$B$202,G6)>=1,"yes","no")) -> yes | I6: 49 | J6: 0
A7: 5 | B7: 43 | C7: 0.063796296 | D7: =IF(B7=A7,"Match!","") | E7: =IF(B7="","",ABS(B7-A7)) -> 38 | F7: =IF(B7="","",IF(E7=SMALL($E$3:$E$202,1),"Close!","")) -> #REF! | G7: 5 | H7: =IF(G7="","",IF(COUNTIF($B$3:$B$202,G7)>=1,"yes","no")) -> yes | I7: 50 | J7: 0
A8: 6 | B8: 40 | C8: 0.065462963 | D8: =IF(B8=A8,"Match!","") | E8: =IF(B8="","",ABS(B8-A8)) -> 34 | F8: =IF(B8="","",IF(E8=SMALL($E$3:$E$202,1),"Close!","")) -> #REF! | G8: 7 | H8: =IF(G8="","",IF(COUNTIF($B$3:$B$202,G8)>=1,"yes","no")) -> yes | I8: 51 | J8: 0
A9: 7 | B9: 30 | C9: 0.0665625 | D9: =IF(B9=A9,"Match!","") | E9: =IF(B9="","",ABS(B9-A9)) -> 23 | F9: =IF(B9="","",IF(E9=SMALL($E$3:$E$202,1),"Close!","")) -> #REF! | G9: 8 | H9: =IF(G9="","",IF(COUNTIF($B$3:$B$202,G9)>=1,"yes","no")) -> yes | I9: 52 | J9: 0
A10: 8 | B10: 4 | C10: 0.067326389 | D10: =IF(B10=A10,"Match!","") | E10: =IF(B10="","",ABS(B10-A10)) -> 4 | F10: =IF(B10="","",IF(E10=SMALL($E$3:$E$202,1),"Close!","")) -> #REF! | G10: 10 | H10: =IF(G10="","",IF(COUNTIF($B$3:$B$202,G10)>=1,"yes","no")) -> yes | I10: 53 | J10: 0
A11: 9 | B11: 10 | C11: 0.068125 | D11: =IF(B11=A11,"Match!","") | E11: =IF(B11="","",ABS(B11-A11)) -> 1 | F11: =IF(B11="","",IF(E11=SMALL($E$3:$E$202,1),"Close!","")) -> #REF! | G11: 12 | H11: =IF(G11="","",IF(COUNTIF($B$3:$B$202,G11)>=1,"yes","no")) -> yes | I11: 54 | J11: 0
A12: 10 | B12: 12 | C12: 0.068923611 | D12: =IF(B12=A12,"Match!","") | E12: =IF(B12="","",ABS(B12-A12)) -> 2 | F12: =IF(B12="","",IF(E12=SMALL($E$3:$E$202,1),"Close!","")) -> #REF! | G12: 14 | H12: =IF(G12="","",IF(COUNTIF($B$3:$B$202,G12)>=1,"yes","no")) -> yes | I12: 55 | J12: 0
A13: 11 | B13: 17 | C13: 0.0696875 | D13: =IF(B13=A13,"Match!","") | E13: =IF(B13="","",ABS(B13-A13)) -> 6 | F13: =IF(B13="","",IF(E13=SMALL($E$3:$E$202,1),"Close!","")) -> #REF! | G13: 16 | H13: =IF(G13="","",IF(COUNTIF($B$3:$B$202,G13)>=1,"yes","no")) -> yes | I13: 56 | J13: 0
A14: 12 | B14: 37 | C14: 0.07025463 | D14: =IF(B14=A14,"Match!","") | E14: =IF(B14="","",ABS(B14-A14)) -> 25 | F14: =IF(B14="","",IF(E14=SMALL($E$3:$E$202,1),"Close!","")) -> #REF! | G14: 17 | H14: =IF(G14="","",IF(COUNTIF($B$3:$B$202,G14)>=1,"yes","no")) -> yes | I14: 57 | J14: 0
A15: 13 | B15: 35 | C15: 0.071087963 | D15: =IF(B15=A15,"Match!","") | E15: =IF(B15="","",ABS(B15-A15)) -> 22 | F15: =IF(B15="","",IF(E15=SMALL($E$3:$E$202,1),"Close!","")) -> #REF! | G15: 18 | H15: =IF(G15="","",IF(COUNTIF($B$3:$B$202,G15)>=1,"yes","no")) -> yes | I15: 58 | J15: 0
A16: 14 | B16: 31 | C16: 0.073472222 | D16: =IF(B16=A16,"Match!","") | E16: =IF(B16="","",ABS(B16-A16)) -> 17 | F16: =IF(B16="","",IF(E16=SMALL($E$3:$E$202,1),"Close!","")) -> #REF! | G16: 19 | H16: =IF(G16="","",IF(COUNTIF($B$3:$B$202,G16)>=1,"yes","no")) -> yes | I16: 59 | J16: 0
A17: 15 | B17: 2 | C17: 0.075277778 | D17: =IF(B17=A17,"Match!","") | E17: =IF(B17="","",ABS(B17-A17)) -> 13 | F17: =IF(B17="","",IF(E17=SMALL($E$3:$E$202,1),"Close!","")) -> #REF! | G17: 20 | H17: =IF(G17="","",IF(COUNTIF($B$3:$B$202,G17)>=1,"yes","no")) -> yes | I17: 60 | J17: 0
A18: 16 | B18: 36 | C18: 0.075625 | D18: =IF(B18=A18,"Match!","") | E18: =IF(B18="","",ABS(B18-A18)) -> 20 | F18: =IF(B18="","",IF(E18=SMALL($E$3:$E$202,1),"Close!","")) -> #REF! | G18: 21 | H18: =IF(G18="","",IF(COUNTIF($B$3:$B$202,G18)>=1,"yes","no")) -> yes | I18: 61 | J18: 0
... A41: 39 | B41: 34 | C41: 0.10489583 | D41: =IF(B41=A41,"Match!","") | E41: =IF(B41="","",ABS(B41-A41)) -> 5 | F41: =IF(B41="","",IF(E41=SMALL($E$3:$E$202,1),"Close!","")) -> #REF! | G41: 45 | H41: =IF(G41="","",IF(COUNTIF($B$3:$B$202,G41)>=1,"yes","no")) -> yes | I41: 84 | J41: 0
A42: 40 | D42: =IF(B42=A42,"Match!","") | E42: =IF(B42="","",ABS(B42-A42)) | F42: =IF(B42="","",IF(E42=SMALL($E$3:$E$202,1),"Close!","")) | G42: 46 | H42: =IF(G42="","",IF(COUNTIF($B$3:$B$202,G42)>=1,"yes","no")) -> no | I42: 85 | J42: 0
A43: 41 | D43: =IF(B43=A43,"Match!","") | E43: =IF(B43="","",ABS(B43-A43)) | F43: =IF(B43="","",IF(E43=SMALL($E$3:$E$202,1),"Close!","")) | G43: 47 | H43: =IF(G43="","",IF(COUNTIF($B$3:$B$202,G43)>=1,"yes","no")) -> no | I43: 86 | J43: 0
A44: 42 | D44: =IF(B44=A44,"Match!","") | E44: =IF(B44="","",ABS(B44-A44)) | F44: =IF(B44="","",IF(E44=SMALL($E$3:$E$202,1),"Close!","")) | G44: 48 | H44: =IF(G44="","",IF(COUNTIF($B$3:$B$202,G44)>=1,"yes","no")) -> no | I44: 87 | J44: 0
A45: 43 | D45: =IF(B45=A45,"Match!","") | E45: =IF(B45="","",ABS(B45-A45)) | F45: =IF(B45="","",IF(E45=SMALL($E$3:$E$202,1),"Close!","")) | G45: 49 | H45: =IF(G45="","",IF(COUNTIF($B$3:$B$202,G45)>=1,"yes","no")) -> no | I45: 88 | J45: 0
A46: 44 | D46: =IF(B46=A46,"Match!","") | E46: =IF(B46="","",ABS(B46-A46)) | F46: =IF(B46="","",IF(E46=SMALL($E$3:$E$202,1),"Close!","")) | G46: 50 | H46: =IF(G46="","",IF(COUNTIF($B$3:$B$202,G46)>=1,"yes","no")) -> no | I46: 89 | J46: 0
A47: 45 | D47: =IF(B47=A47,"Match!","") | E47: =IF(B47="","",ABS(B47-A47)) | F47: =IF(B47="","",IF(E47=SMALL($E$3:$E$202,1),"Close!","")) | G47: 51 | H47: =IF(G47="","",IF(COUNTIF($B$3:$B$202,G47)>=1,"yes","no")) -> no | I47: 90 | J47: 0
A48: 46 | D48: =IF(B48=A48,"Match!","") | E48: =IF(B48="","",ABS(B48-A48)) | F48: =IF(B48="","",IF(E48=SMALL($E$3:$E$202,1),"Close!","")) | G48: 52 | H48: =IF(G48="","",IF(COUNTIF($B$3:$B$202,G48)>=1,"yes","no")) -> no | I48: 91 | J48: 0
A49: 47 | D49: =IF(B49=A49,"Match!","") | E49: =IF(B49="","",ABS(B49-A49)) | F49: =IF(B49="","",IF(E49=SMALL($E$3:$E$202,1),"Close!","")) | G49: 53 | H49: =IF(G49="","",IF(COUNTIF($B$3:$B$202,G49)>=1,"yes","no")) -> no | I49: 92 | J49: 0
A50: 48 | D50: =IF(B50=A50,"Match!","") | E50: =IF(B50="","",ABS(B50-A50)) | F50: =IF(B50="","",IF(E50=SMALL($E$3:$E$202,1),"Close!","")) | G50: 54 | H50: =IF(G50="","",IF(COUNTIF($B$3:$B$202,G50)>=1,"yes","no")) -> no | I50: 93 | J50: 0
A51: 49 | D51: =IF(B51=A51,"Match!","") | E51: =IF(B51="","",ABS(B51-A51)) | F51: =IF(B51="","",IF(E51=SMALL($E$3:$E$202,1),"Close!","")) | G51: 55 | H51: =IF(G51="","",IF(COUNTIF($B$3:$B$202,G51)>=1,"yes","no")) -> no | I51: 94 | J51: 0
A52: 50 | D52: =IF(B52=A52,"Match!","") | E52: =IF(B52="","",ABS(B52-A52)) | F52: =IF(B52="","",IF(E52=SMALL($E$3:$E$202,1),"Close!","")) | G52: 56 | H52: =IF(G52="","",IF(COUNTIF($B$3:$B$202,G52)>=1,"yes","no")) -> no | I52: 95 | J52: 0
A53: 51 | D53: =IF(B53=A53,"Match!","") | E53: =IF(B53="","",ABS(B53-A53)) | F53: =IF(B53="","",IF(E53=SMALL($E$3:$E$202,1),"Close!","")) | G53: 57 | H53: =IF(G53="","",IF(COUNTIF($B$3:$B$202,G53)>=1,"yes","no")) -> no | I53: 96 | J53: 0
... A60: 58 | D60: =IF(B60=A60,"Match!","") | E60: =IF(B60="","",ABS(B60-A60)) | F60: =IF(B60="","",IF(E60=SMALL($E$3:$E$202,1),"Close!","")) | G60: 64 | H60: =IF(G60="","",IF(COUNTIF($B$3:$B$202,G60)>=1,"yes","no")) -> no | I60: 103 | J60: 0
A61: 59 | D61: =IF(B61=A61,"Match!","") | E61: =IF(B61="","",ABS(B61-A61)) | F61: =IF(B61="","",IF(E61=SMALL($E$3:$E$202,1),"Close!","")) | G61: 65 | H61: =IF(G61="","",IF(COUNTIF($B$3:$B$202,G61)>=1,"yes","no")) -> no
A62: 60 | D62: =IF(B62=A62,"Match!","") | E62: =IF(B62="","",ABS(B62-A62)) | F62: =IF(B62="","",IF(E62=SMALL($E$3:$E$202,1),"Close!","")) | G62: 66 | H62: =IF(G62="","",IF(COUNTIF($B$3:$B$202,G62)>=1,"yes","no")) -> no
A63: 61 | D63: =IF(B63=A63,"Match!","") | E63: =IF(B63="","",ABS(B63-A63)) | F63: =IF(B63="","",IF(E63=SMALL($E$3:$E$202,1),"Close!","")) | G63: 67 | H63: =IF(G63="","",IF(COUNTIF($B$3:$B$202,G63)>=1,"yes","no")) -> no
A64: 62 | D64: =IF(B64=A64,"Match!","") | E64: =IF(B64="","",ABS(B64-A64)) | F64: =IF(B64="","",IF(E64=SMALL($E$3:$E$202,1),"Close!","")) | G64: 68 | H64: =IF(G64="","",IF(COUNTIF($B$3:$B$202,G64)>=1,"yes","no")) -> no
A65: 63 | D65: =IF(B65=A65,"Match!","") | E65: =IF(B65="","",ABS(B65-A65)) | F65: =IF(B65="","",IF(E65=SMALL($E$3:$E$202,1),"Close!","")) | G65: 69 | H65: =IF(G65="","",IF(COUNTIF($B$3:$B$202,G65)>=1,"yes","no")) -> no
A66: 64 | D66: =IF(B66=A66,"Match!","") | E66: =IF(B66="","",ABS(B66-A66)) | F66: =IF(B66="","",IF(E66=SMALL($E$3:$E$202,1),"Close!","")) | G66: 70 | H66: =IF(G66="","",IF(COUNTIF($B$3:$B$202,G66)>=1,"yes","no")) -> no
A67: 65 | D67: =IF(B67=A67,"Match!","") | E67: =IF(B67="","",ABS(B67-A67)) | F67: =IF(B67="","",IF(E67=SMALL($E$3:$E$202,1),"Close!","")) | G67: 71 | H67: =IF(G67="","",IF(COUNTIF($B$3:$B$202,G67)>=1,"yes","no")) -> no
A68: 66 | D68: =IF(B68=A68,"Match!","") | E68: =IF(B68="","",ABS(B68-A68)) | F68: =IF(B68="","",IF(E68=SMALL($E$3:$E$202,1),"Close!","")) | G68: 72 | H68: =IF(G68="","",IF(COUNTIF($B$3:$B$202,G68)>=1,"yes","no")) -> no
...

Sheet Calculation
A1: {=RESULT!B3:F203} -> Pos | B1: Name | C1: Club | D1: Cat | E1: Time | F1: Gender | G1: Male team count | H1: Counter lookup | I1: Team | J1: Counter 1 | K1: Counter 1 pos | L1: Counter 2 | M1: Counter 2 pos | N1: Counter 3 | O1: Counter 3 pos | P1: Team Score | Q1: Team position | R1: Female team count | S1: Counter lookup | T1: Team | U1: Counter 1 | V1: Counter 1 pos | W1: Counter 2 | X1: Counter 2 pos | Y1: Counter 3 | Z1: Counter 3 pos | AA1: Team Score | AB1: Team position | AC1: M count | AD1: MU23 - | AE1: MU20 - | AF1: MU18 - | AG1: MU16 | AH1: MU14 | AI1: MU12 | AJ1: MU10 | AK1: MV40+ | AL1: MV50+ | AM1: MV60+ | AN1: MV70+ | AO1: F count | AP1: FU23- | AQ1: FU20- | AR1: FU18- | AS1: FU16 | AT1: FU14 | AU1: FU12 | AV1: FU10 | AW1: FV40+ | AX1: FV50+ | AY1: FV60+ | AZ1: FV70+
A2: 1 | B2: Steve Hebblethwaite | C2: Keswick AC | D2: MV40 | E2: 0.057951389 | F2: =LEFT(D2,1) -> M | G2: =IF(OR(C2="",C2=" ",C2="FRA",C2="unattached",C2="(no club)",F2="F"),"",COUNTIFS(C$2:C2,C2,D$2:D2,"M*")) -> 1 | H2: =IF(G2="","",C2&G2) -> Keswick AC1 | I2: =IF(G2=3,C2,"") | J2: =IF($I2="","",_xlfn.XLOOKUP($I2&"1",H$2:H$201,B$2:B$201)) | K2: =IF($I2="","",_xlfn.XLOOKUP($I2&"1",H$2:H$201,AC$2:AC$201)) | L2: =IF(I2="","",_xlfn.XLOOKUP(I2&"2",H$2:H$201,B$2:B$201)) | M2: =IF($I2="","",_xlfn.XLOOKUP($I2&"2",H$2:H$201,AC$2:AC$201)) | N2: =IF(I2="","",_xlfn.XLOOKUP(I2&"3",H$2:H$201,B$2:B$201)) | O2: =IF($I2="","",_xlfn.XLOOKUP($I2&"3",H$2:H$201,AC$2:AC$201)) | P2: =IF(I2="","",K2+M2+O2) | Q2: =IF(P2="","",RANK(P2,P$2:P$201,1)) | R2: =IF(OR(C2="",C2=" ",C2="FRA",C2="unattached",C2="(no club)",F2="M"),"",COUNTIFS(C$2:C2,C2,D$2:D2,"F*")) | S2: =IF(R2="","",C2&R2) | T2: =IF(R2=3,C2,"") | U2: =IF(T2="","",_xlfn.XLOOKUP(T2&"1",S$2:S$201,B$2:B$201)) | V2: =IF($T2="","",_xlfn.XLOOKUP($T2&"1",S$2:S$201,AO$2:AO$201)) | W2: =IF(T2="","",_xlfn.XLOOKUP(T2&"2",S$2:S$201,B$2:B$201)) | X2: =IF($T2="","",_xlfn.XLOOKUP($T2&"2",S$2:S$201,AO$2:AO$201)) | Y2: =IF(T2="","",_xlfn.XLOOKUP(T2&"3",S$2:S$201,B$2:B$201)) | Z2: =IF($T2="","",_xlfn.XLOOKUP($T2&"3",S$2:S$201,AO$2:AO$201)) | AA2: =IF(T2="","",V2+X2+Z2) | AB2: =IF(AA2="","",RANK(AA2,AA$2:AA$201,1)) | AC2: =IF(OR(D2="MSEN",D2="MV40",D2="MV50",D2="MV60",D2="MV70",D2="MV80",D2="MU23",D2="MU20",D2="MU18",D2="MU16",D2="MU14",D2="MU12",D2="MU10"),COUNTIF(D$2:D2,"M*"),"") -> 1 | AD2: =IF(OR(D2="MU23",D2="MU20",D2="MU18",D2="MU16",D2="MU14",D2="MU12",D2="MU10"),COUNTIF(D$2:D2,"MU*"),"") | AE2: {=IF(OR(D2="MU20",D2="MU18",D2="MU16",D2="MU14",D2="MU12",D2="MU10"),SUM(COUNTIF(D$2:D2,{"MU20","MU18","MU16","MU14","MU12","MU10"})),"")} | AF2: {=IF(OR(D2="MU18",D2="MU16",D2="MU14",D2="MU12",D2="MU10"),SUM(COUNTIF(D$2:D2,{"MU18","MU16","MU14","MU12","MU10"})),"")} | AG2: =IF(OR(D2="MU16"),COUNTIF(D$2:D2,"MU16"),"") | AH2: =IF(OR(D2="MU14"),COUNTIF(D$2:D2,"MU14"),"") | AI2: =IF(OR(D2="MU12"),COUNTIF(D$2:D2,"MU12"),"") | AJ2: =IF(OR(D2="MU10"),COUNTIF(D$2:D2,"MU10"),"") | AK2: =IF(OR(D2="MV40",D2="MV50",D2="MV60",D2="MV70",D2="MV80"),COUNTIF(D$2:D2,"MV*"),"") -> 1 | AL2: =IF(OR(D2="MV50",D2="MV60",D2="MV70",D2="MV80"),COUNTIF(D$2:D2,"MV50")+COUNTIF(D$2:D2,"MV60")+COUNTIF(D$2:D2,"MV70")+COUNTIF(D$2:D2,"MV80"),"") | AM2: =IF(OR(D2="MV60",D2="MV70",D2="MV80"),COUNTIF(D$2:D2,"MV60")+COUNTIF(D$2:D2,"MV70")+COUNTIF(D$2:D2,"MV80"),"") | AN2: =IF(OR(D2="MV70",D2="MV80"),COUNTIF(D$2:D2,"MV70")+COUNTIF(D$2:D2,"MV80"),"") | AO2: =IF(OR(D2="FSEN",D2="FV40",D2="FV50",D2="FV60",D2="FV70",D2="FV80",D2="FU23",D2="FU20",D2="FU18",D2="FU16",D2="FU14",D2="FU12",D2="FU10"),COUNTIF(D$2:D2,"F*"),"") | AP2: =IF(OR(D2="FU23",D2="FU20",D2="FU18",D2="FU16",D2="FU14",D2="FU12",D2="FU10"),COUNTIF(D$2:D2,"FU*"),"") | AQ2: {=IF(OR(D2="FU20",D2="FU18",D2="FU16",D2="FU14",D2="FU12",D2="FU10"),SUM(COUNTIF(D$2:D2,{"FU20","FU18","FU16","FU14","FU12","FU10"})),"")} | AR2: {=IF(OR(D2="FU18",D2="FU16",D2="FU14",D2="FU12",D2="FU10"),SUM(COUNTIF(D$2:D2,{"FU18","FU16","FU14","FU12","FU10"})),"")} | AS2: =IF(OR(D2="FU16"),COUNTIF(D$2:D2,"FU16"),"") | AT2: =IF(OR(D2="FU14"),COUNTIF(D$2:D2,"FU14"),"") | AU2: =IF(OR(D2="FU12"),COUNTIF(D$2:D2,"FU12"),"") | AV2: =IF(OR(D2="FU10"),COUNTIF(D$2:D2,"FU10"),"") | AW2: =IF(OR(D2="FV40",D2="FV50",D2="FV60",D2="FV70",D2="FV80"),COUNTIF(D$2:D2,"FV*"),"") | AX2: =IF(OR(D2="FV50",D2="FV60",D2="FV70",D2="FV80"),COUNTIF(D$2:D2,"FV50")+COUNTIF(D$2:D2,"FV60")+COUNTIF(D$2:D2,"FV70")+COUNTIF(D$2:D2,"FV80"),"") | AY2: =IF(OR(D2="FV60",D2="FV70",D2="FV80"),COUNTIF(D$2:D2,"FV60")+COUNTIF(D$2:D2,"FV70")+COUNTIF(D$2:D2,"FV80"),"") | AZ2: =IF(OR(D2="FV70",D2="FV80"),COUNTIF(D$2:D2,"FV70")+COUNTIF(D$2:D2,"FV80"),"")
A3: 2 | B3: Ethan Furness | C3: Black Combe Runners | D3: MSEN | E3: 0.059907407 | F3: =LEFT(D3,1) -> M | G3: =IF(OR(C3="",C3=" ",C3="FRA",C3="unattached",C3="(no club)",F3="F"),"",COUNTIFS(C$2:C3,C3,D$2:D3,"M*")) -> 1 | H3: =IF(G3="","",C3&G3) -> Black Combe Runners1 | I3: =IF(G3=3,C3,"") | J3: =IF($I3="","",_xlfn.XLOOKUP($I3&"1",H$2:H$201,B$2:B$201)) | K3: =IF($I3="","",_xlfn.XLOOKUP($I3&"1",H$2:H$201,AC$2:AC$201)) | L3: =IF(I3="","",_xlfn.XLOOKUP(I3&"2",H$2:H$201,B$2:B$201)) | M3: =IF($I3="","",_xlfn.XLOOKUP($I3&"2",H$2:H$201,AC$2:AC$201)) | N3: =IF(I3="","",_xlfn.XLOOKUP(I3&"3",H$2:H$201,B$2:B$201)) | O3: =IF($I3="","",_xlfn.XLOOKUP($I3&"3",H$2:H$201,AC$2:AC$201)) | P3: =IF(I3="","",K3+M3+O3) | Q3: =IF(P3="","",RANK(P3,P$2:P$201,1)) | R3: =IF(OR(C3="",C3=" ",C3="FRA",C3="unattached",C3="(no club)",F3="M"),"",COUNTIFS(C$2:C3,C3,D$2:D3,"F*")) | S3: =IF(R3="","",C3&R3) | T3: =IF(R3=3,C3,"") | U3: =IF(T3="","",_xlfn.XLOOKUP(T3&"1",S$2:S$201,B$2:B$201)) | V3: =IF($T3="","",_xlfn.XLOOKUP($T3&"1",S$2:S$201,AO$2:AO$201)) | W3: =IF(T3="","",_xlfn.XLOOKUP(T3&"2",S$2:S$201,B$2:B$201)) | X3: =IF($T3="","",_xlfn.XLOOKUP($T3&"2",S$2:S$201,AO$2:AO$201)) | Y3: =IF(T3="","",_xlfn.XLOOKUP(T3&"3",S$2:S$201,B$2:B$201)) | Z3: =IF($T3="","",_xlfn.XLOOKUP($T3&"3",S$2:S$201,AO$2:AO$201)) | AA3: =IF(T3="","",V3+X3+Z3) | AB3: =IF(AA3="","",RANK(AA3,AA$2:AA$201,1)) | AC3: =IF(OR(D3="MSEN",D3="MV40",D3="MV50",D3="MV60",D3="MV70",D3="MV80",D3="MU23",D3="MU20",D3="MU18",D3="MU16",D3="MU14",D3="MU12",D3="MU10"),COUNTIF(D$2:D3,"M*"),"") -> 2 | AD3: =IF(OR(D3="MU23",D3="MU20",D3="MU18",D3="MU16",D3="MU14",D3="MU12",D3="MU10"),COUNTIF(D$2:D3,"MU*"),"") | AE3: {=IF(OR(D3="MU20",D3="MU18",D3="MU16",D3="MU14",D3="MU12",D3="MU10"),SUM(COUNTIF(D$2:D3,{"MU20","MU18","MU16","MU14","MU12","MU10"})),"")} | AF3: {=IF(OR(D3="MU18",D3="MU16",D3="MU14",D3="MU12",D3="MU10"),SUM(COUNTIF(D$2:D3,{"MU18","MU16","MU14","MU12","MU10"})),"")} | AG3: =IF(OR(D3="MU16"),COUNTIF(D$2:D3,"MU16"),"") | AH3: =IF(OR(D3="MU14"),COUNTIF(D$2:D3,"MU14"),"") | AI3: =IF(OR(D3="MU12"),COUNTIF(D$2:D3,"MU12"),"") | AJ3: =IF(OR(D3="MU10"),COUNTIF(D$2:D3,"MU10"),"") | AK3: =IF(OR(D3="MV40",D3="MV50",D3="MV60",D3="MV70",D3="MV80"),COUNTIF(D$2:D3,"MV*"),"") | AL3: =IF(OR(D3="MV50",D3="MV60",D3="MV70",D3="MV80"),COUNTIF(D$2:D3,"MV50")+COUNTIF(D$2:D3,"MV60")+COUNTIF(D$2:D3,"MV70")+COUNTIF(D$2:D3,"MV80"),"") | AM3: =IF(OR(D3="MV60",D3="MV70",D3="MV80"),COUNTIF(D$2:D3,"MV60")+COUNTIF(D$2:D3,"MV70")+COUNTIF(D$2:D3,"MV80"),"") | AN3: =IF(OR(D3="MV70",D3="MV80"),COUNTIF(D$2:D3,"MV70")+COUNTIF(D$2:D3,"MV80"),"") | AO3: =IF(OR(D3="FSEN",D3="FV40",D3="FV50",D3="FV60",D3="FV70",D3="FV80",D3="FU23",D3="FU20",D3="FU18",D3="FU16",D3="FU14",D3="FU12",D3="FU10"),COUNTIF(D$2:D3,"F*"),"") | AP3: =IF(OR(D3="FU23",D3="FU20",D3="FU18",D3="FU16",D3="FU14",D3="FU12",D3="FU10"),COUNTIF(D$2:D3,"FU*"),"") | AQ3: {=IF(OR(D3="FU20",D3="FU18",D3="FU16",D3="FU14",D3="FU12",D3="FU10"),SUM(COUNTIF(D$2:D3,{"FU20","FU18","FU16","FU14","FU12","FU10"})),"")} | AR3: {=IF(OR(D3="FU18",D3="FU16",D3="FU14",D3="FU12",D3="FU10"),SUM(COUNTIF(D$2:D3,{"FU18","FU16","FU14","FU12","FU10"})),"")} | AS3: =IF(OR(D3="FU16"),COUNTIF(D$2:D3,"FU16"),"") | AT3: =IF(OR(D3="FU14"),COUNTIF(D$2:D3,"FU14"),"") | AU3: =IF(OR(D3="FU12"),COUNTIF(D$2:D3,"FU12"),"") | AV3: =IF(OR(D3="FU10"),COUNTIF(D$2:D3,"FU10"),"") | AW3: =IF(OR(D3="FV40",D3="FV50",D3="FV60",D3="FV70",D3="FV80"),COUNTIF(D$2:D3,"FV*"),"") | AX3: =IF(OR(D3="FV50",D3="FV60",D3="FV70",D3="FV80"),COUNTIF(D$2:D3,"FV50")+COUNTIF(D$2:D3,"FV60")+COUNTIF(D$2:D3,"FV70")+COUNTIF(D$2:D3,"FV80"),"") | AY3: =IF(OR(D3="FV60",D3="FV70",D3="FV80"),COUNTIF(D$2:D3,"FV60")+COUNTIF(D$2:D3,"FV70")+COUNTIF(D$2:D3,"FV80"),"") | AZ3: =IF(OR(D3="FV70",D3="FV80"),COUNTIF(D$2:D3,"FV70")+COUNTIF(D$2:D3,"FV80"),"")
A4: 3 | B4: Tim Campbell | C4: Eden runners | D4: MV50 | E4: 0.060104167 | F4: =LEFT(D4,1) -> M | G4: =IF(OR(C4="",C4=" ",C4="FRA",C4="unattached",C4="(no club)",F4="F"),"",COUNTIFS(C$2:C4,C4,D$2:D4,"M*")) -> 1 | H4: =IF(G4="","",C4&G4) -> Eden runners1 | I4: =IF(G4=3,C4,"") | J4: =IF($I4="","",_xlfn.XLOOKUP($I4&"1",H$2:H$201,B$2:B$201)) | K4: =IF($I4="","",_xlfn.XLOOKUP($I4&"1",H$2:H$201,AC$2:AC$201)) | L4: =IF(I4="","",_xlfn.XLOOKUP(I4&"2",H$2:H$201,B$2:B$201)) | M4: =IF($I4="","",_xlfn.XLOOKUP($I4&"2",H$2:H$201,AC$2:AC$201)) | N4: =IF(I4="","",_xlfn.XLOOKUP(I4&"3",H$2:H$201,B$2:B$201)) | O4: =IF($I4="","",_xlfn.XLOOKUP($I4&"3",H$2:H$201,AC$2:AC$201)) | P4: =IF(I4="","",K4+M4+O4) | Q4: =IF(P4="","",RANK(P4,P$2:P$201,1)) | R4: =IF(OR(C4="",C4=" ",C4="FRA",C4="unattached",C4="(no club)",F4="M"),"",COUNTIFS(C$2:C4,C4,D$2:D4,"F*")) | S4: =IF(R4="","",C4&R4) | T4: =IF(R4=3,C4,"") | U4: =IF(T4="","",_xlfn.XLOOKUP(T4&"1",S$2:S$201,B$2:B$201)) | V4: =IF($T4="","",_xlfn.XLOOKUP($T4&"1",S$2:S$201,AO$2:AO$201)) | W4: =IF(T4="","",_xlfn.XLOOKUP(T4&"2",S$2:S$201,B$2:B$201)) | X4: =IF($T4="","",_xlfn.XLOOKUP($T4&"2",S$2:S$201,AO$2:AO$201)) | Y4: =IF(T4="","",_xlfn.XLOOKUP(T4&"3",S$2:S$201,B$2:B$201)) | Z4: =IF($T4="","",_xlfn.XLOOKUP($T4&"3",S$2:S$201,AO$2:AO$201)) | AA4: =IF(T4="","",V4+X4+Z4) | AB4: =IF(AA4="","",RANK(AA4,AA$2:AA$201,1)) | AC4: =IF(OR(D4="MSEN",D4="MV40",D4="MV50",D4="MV60",D4="MV70",D4="MV80",D4="MU23",D4="MU20",D4="MU18",D4="MU16",D4="MU14",D4="MU12",D4="MU10"),COUNTIF(D$2:D4,"M*"),"") -> 3 | AD4: =IF(OR(D4="MU23",D4="MU20",D4="MU18",D4="MU16",D4="MU14",D4="MU12",D4="MU10"),COUNTIF(D$2:D4,"MU*"),"") | AE4: {=IF(OR(D4="MU20",D4="MU18",D4="MU16",D4="MU14",D4="MU12",D4="MU10"),SUM(COUNTIF(D$2:D4,{"MU20","MU18","MU16","MU14","MU12","MU10"})),"")} | AF4: {=IF(OR(D4="MU18",D4="MU16",D4="MU14",D4="MU12",D4="MU10"),SUM(COUNTIF(D$2:D4,{"MU18","MU16","MU14","MU12","MU10"})),"")} | AG4: =IF(OR(D4="MU16"),COUNTIF(D$2:D4,"MU16"),"") | AH4: =IF(OR(D4="MU14"),COUNTIF(D$2:D4,"MU14"),"") | AI4: =IF(OR(D4="MU12"),COUNTIF(D$2:D4,"MU12"),"") | AJ4: =IF(OR(D4="MU10"),COUNTIF(D$2:D4,"MU10"),"") | AK4: =IF(OR(D4="MV40",D4="MV50",D4="MV60",D4="MV70",D4="MV80"),COUNTIF(D$2:D4,"MV*"),"") -> 2 | AL4: =IF(OR(D4="MV50",D4="MV60",D4="MV70",D4="MV80"),COUNTIF(D$2:D4,"MV50")+COUNTIF(D$2:D4,"MV60")+COUNTIF(D$2:D4,"MV70")+COUNTIF(D$2:D4,"MV80"),"") -> 1 | AM4: =IF(OR(D4="MV60",D4="MV70",D4="MV80"),COUNTIF(D$2:D4,"MV60")+COUNTIF(D$2:D4,"MV70")+COUNTIF(D$2:D4,"MV80"),"") | AN4: =IF(OR(D4="MV70",D4="MV80"),COUNTIF(D$2:D4,"MV70")+COUNTIF(D$2:D4,"MV80"),"") | AO4: =IF(OR(D4="FSEN",D4="FV40",D4="FV50",D4="FV60",D4="FV70",D4="FV80",D4="FU23",D4="FU20",D4="FU18",D4="FU16",D4="FU14",D4="FU12",D4="FU10"),COUNTIF(D$2:D4,"F*"),"") | AP4: =IF(OR(D4="FU23",D4="FU20",D4="FU18",D4="FU16",D4="FU14",D4="FU12",D4="FU10"),COUNTIF(D$2:D4,"FU*"),"") | AQ4: {=IF(OR(D4="FU20",D4="FU18",D4="FU16",D4="FU14",D4="FU12",D4="FU10"),SUM(COUNTIF(D$2:D4,{"FU20","FU18","FU16","FU14","FU12","FU10"})),"")} | AR4: {=IF(OR(D4="FU18",D4="FU16",D4="FU14",D4="FU12",D4="FU10"),SUM(COUNTIF(D$2:D4,{"FU18","FU16","FU14","FU12","FU10"})),"")} | AS4: =IF(OR(D4="FU16"),COUNTIF(D$2:D4,"FU16"),"") | AT4: =IF(OR(D4="FU14"),COUNTIF(D$2:D4,"FU14"),"") | AU4: =IF(OR(D4="FU12"),COUNTIF(D$2:D4,"FU12"),"") | AV4: =IF(OR(D4="FU10"),COUNTIF(D$2:D4,"FU10"),"") | AW4: =IF(OR(D4="FV40",D4="FV50",D4="FV60",D4="FV70",D4="FV80"),COUNTIF(D$2:D4,"FV*"),"") | AX4: =IF(OR(D4="FV50",D4="FV60",D4="FV70",D4="FV80"),COUNTIF(D$2:D4,"FV50")+COUNTIF(D$2:D4,"FV60")+COUNTIF(D$2:D4,"FV70")+COUNTIF(D$2:D4,"FV80"),"") | AY4: =IF(OR(D4="FV60",D4="FV70",D4="FV80"),COUNTIF(D$2:D4,"FV60")+COUNTIF(D$2:D4,"FV70")+COUNTIF(D$2:D4,"FV80"),"") | AZ4: =IF(OR(D4="FV70",D4="FV80"),COUNTIF(D$2:D4,"FV70")+COUNTIF(D$2:D4,"FV80"),"")
A5: 4 | B5: James Turnbull | C5: Keswick AC | D5: MSEN | E5: 0.063784722 | F5: =LEFT(D5,1) -> M | G5: =IF(OR(C5="",C5=" ",C5="FRA",C5="unattached",C5="(no club)",F5="F"),"",COUNTIFS(C$2:C5,C5,D$2:D5,"M*")) -> 2 | H5: =IF(G5="","",C5&G5) -> Keswick AC2 | I5: =IF(G5=3,C5,"") | J5: =IF($I5="","",_xlfn.XLOOKUP($I5&"1",H$2:H$201,B$2:B$201)) | K5: =IF($I5="","",_xlfn.XLOOKUP($I5&"1",H$2:H$201,AC$2:AC$201)) | L5: =IF(I5="","",_xlfn.XLOOKUP(I5&"2",H$2:H$201,B$2:B$201)) | M5: =IF($I5="","",_xlfn.XLOOKUP($I5&"2",H$2:H$201,AC$2:AC$201)) | N5: =IF(I5="","",_xlfn.XLOOKUP(I5&"3",H$2:H$201,B$2:B$201)) | O5: =IF($I5="","",_xlfn.XLOOKUP($I5&"3",H$2:H$201,AC$2:AC$201)) | P5: =IF(I5="","",K5+M5+O5) | Q5: =IF(P5="","",RANK(P5,P$2:P$201,1)) | R5: =IF(OR(C5="",C5=" ",C5="FRA",C5="unattached",C5="(no club)",F5="M"),"",COUNTIFS(C$2:C5,C5,D$2:D5,"F*")) | S5: =IF(R5="","",C5&R5) | T5: =IF(R5=3,C5,"") | U5: =IF(T5="","",_xlfn.XLOOKUP(T5&"1",S$2:S$201,B$2:B$201)) | V5: =IF($T5="","",_xlfn.XLOOKUP($T5&"1",S$2:S$201,AO$2:AO$201)) | W5: =IF(T5="","",_xlfn.XLOOKUP(T5&"2",S$2:S$201,B$2:B$201)) | X5: =IF($T5="","",_xlfn.XLOOKUP($T5&"2",S$2:S$201,AO$2:AO$201)) | Y5: =IF(T5="","",_xlfn.XLOOKUP(T5&"3",S$2:S$201,B$2:B$201)) | Z5: =IF($T5="","",_xlfn.XLOOKUP($T5&"3",S$2:S$201,AO$2:AO$201)) | AA5: =IF(T5="","",V5+X5+Z5) | AB5: =IF(AA5="","",RANK(AA5,AA$2:AA$201,1)) | AC5: =IF(OR(D5="MSEN",D5="MV40",D5="MV50",D5="MV60",D5="MV70",D5="MV80",D5="MU23",D5="MU20",D5="MU18",D5="MU16",D5="MU14",D5="MU12",D5="MU10"),COUNTIF(D$2:D5,"M*"),"") -> 4 | AD5: =IF(OR(D5="MU23",D5="MU20",D5="MU18",D5="MU16",D5="MU14",D5="MU12",D5="MU10"),COUNTIF(D$2:D5,"MU*"),"") | AE5: {=IF(OR(D5="MU20",D5="MU18",D5="MU16",D5="MU14",D5="MU12",D5="MU10"),SUM(COUNTIF(D$2:D5,{"MU20","MU18","MU16","MU14","MU12","MU10"})),"")} | AF5: {=IF(OR(D5="MU18",D5="MU16",D5="MU14",D5="MU12",D5="MU10"),SUM(COUNTIF(D$2:D5,{"MU18","MU16","MU14","MU12","MU10"})),"")} | AG5: =IF(OR(D5="MU16"),COUNTIF(D$2:D5,"MU16"),"") | AH5: =IF(OR(D5="MU14"),COUNTIF(D$2:D5,"MU14"),"") | AI5: =IF(OR(D5="MU12"),COUNTIF(D$2:D5,"MU12"),"") | AJ5: =IF(OR(D5="MU10"),COUNTIF(D$2:D5,"MU10"),"") | AK5: =IF(OR(D5="MV40",D5="MV50",D5="MV60",D5="MV70",D5="MV80"),COUNTIF(D$2:D5,"MV*"),"") | AL5: =IF(OR(D5="MV50",D5="MV60",D5="MV70",D5="MV80"),COUNTIF(D$2:D5,"MV50")+COUNTIF(D$2:D5,"MV60")+COUNTIF(D$2:D5,"MV70")+COUNTIF(D$2:D5,"MV80"),"") | AM5: =IF(OR(D5="MV60",D5="MV70",D5="MV80"),COUNTIF(D$2:D5,"MV60")+COUNTIF(D$2:D5,"MV70")+COUNTIF(D$2:D5,"MV80"),"") | AN5: =IF(OR(D5="MV70",D5="MV80"),COUNTIF(D$2:D5,"MV70")+COUNTIF(D$2:D5,"MV80"),"") | AO5: =IF(OR(D5="FSEN",D5="FV40",D5="FV50",D5="FV60",D5="FV70",D5="FV80",D5="FU23",D5="FU20",D5="FU18",D5="FU16",D5="FU14",D5="FU12",D5="FU10"),COUNTIF(D$2:D5,"F*"),"") | AP5: =IF(OR(D5="FU23",D5="FU20",D5="FU18",D5="FU16",D5="FU14",D5="FU12",D5="FU10"),COUNTIF(D$2:D5,"FU*"),"") | AQ5: {=IF(OR(D5="FU20",D5="FU18",D5="FU16",D5="FU14",D5="FU12",D5="FU10"),SUM(COUNTIF(D$2:D5,{"FU20","FU18","FU16","FU14","FU12","FU10"})),"")} | AR5: {=IF(OR(D5="FU18",D5="FU16",D5="FU14",D5="FU12",D5="FU10"),SUM(COUNTIF(D$2:D5,{"FU18","FU16","FU14","FU12","FU10"})),"")} | AS5: =IF(OR(D5="FU16"),COUNTIF(D$2:D5,"FU16"),"") | AT5: =IF(OR(D5="FU14"),COUNTIF(D$2:D5,"FU14"),"") | AU5: =IF(OR(D5="FU12"),COUNTIF(D$2:D5,"FU12"),"") | AV5: =IF(OR(D5="FU10"),COUNTIF(D$2:D5,"FU10"),"") | AW5: =IF(OR(D5="FV40",D5="FV50",D5="FV60",D5="FV70",D5="FV80"),COUNTIF(D$2:D5,"FV*"),"") | AX5: =IF(OR(D5="FV50",D5="FV60",D5="FV70",D5="FV80"),COUNTIF(D$2:D5,"FV50")+COUNTIF(D$2:D5,"FV60")+COUNTIF(D$2:D5,"FV70")+COUNTIF(D$2:D5,"FV80"),"") | AY5: =IF(OR(D5="FV60",D5="FV70",D5="FV80"),COUNTIF(D$2:D5,"FV60")+COUNTIF(D$2:D5,"FV70")+COUNTIF(D$2:D5,"FV80"),"") | AZ5: =IF(OR(D5="FV70",D5="FV80"),COUNTIF(D$2:D5,"FV70")+COUNTIF(D$2:D5,"FV80"),"")
A6: 5 | B6: Jonny Howe | C6: Eden Runners | D6: MSEN | E6: 0.063796296 | F6: =LEFT(D6,1) -> M | G6: =IF(OR(C6="",C6=" ",C6="FRA",C6="unattached",C6="(no club)",F6="F"),"",COUNTIFS(C$2:C6,C6,D$2:D6,"M*")) -> 2 | H6: =IF(G6="","",C6&G6) -> Eden Runners2 | I6: =IF(G6=3,C6,"") | J6: =IF($I6="","",_xlfn.XLOOKUP($I6&"1",H$2:H$201,B$2:B$201)) | K6: =IF($I6="","",_xlfn.XLOOKUP($I6&"1",H$2:H$201,AC$2:AC$201)) | L6: =IF(I6="","",_xlfn.XLOOKUP(I6&"2",H$2:H$201,B$2:B$201)) | M6: =IF($I6="","",_xlfn.XLOOKUP($I6&"2",H$2:H$201,AC$2:AC$201)) | N6: =IF(I6="","",_xlfn.XLOOKUP(I6&"3",H$2:H$201,B$2:B$201)) | O6: =IF($I6="","",_xlfn.XLOOKUP($I6&"3",H$2:H$201,AC$2:AC$201)) | P6: =IF(I6="","",K6+M6+O6) | Q6: =IF(P6="","",RANK(P6,P$2:P$201,1)) | R6: =IF(OR(C6="",C6=" ",C6="FRA",C6="unattached",C6="(no club)",F6="M"),"",COUNTIFS(C$2:C6,C6,D$2:D6,"F*")) | S6: =IF(R6="","",C6&R6) | T6: =IF(R6=3,C6,"") | U6: =IF(T6="","",_xlfn.XLOOKUP(T6&"1",S$2:S$201,B$2:B$201)) | V6: =IF($T6="","",_xlfn.XLOOKUP($T6&"1",S$2:S$201,AO$2:AO$201)) | W6: =IF(T6="","",_xlfn.XLOOKUP(T6&"2",S$2:S$201,B$2:B$201)) | X6: =IF($T6="","",_xlfn.XLOOKUP($T6&"2",S$2:S$201,AO$2:AO$201)) | Y6: =IF(T6="","",_xlfn.XLOOKUP(T6&"3",S$2:S$201,B$2:B$201)) | Z6: =IF($T6="","",_xlfn.XLOOKUP($T6&"3",S$2:S$201,AO$2:AO$201)) | AA6: =IF(T6="","",V6+X6+Z6) | AB6: =IF(AA6="","",RANK(AA6,AA$2:AA$201,1)) | AC6: =IF(OR(D6="MSEN",D6="MV40",D6="MV50",D6="MV60",D6="MV70",D6="MV80",D6="MU23",D6="MU20",D6="MU18",D6="MU16",D6="MU14",D6="MU12",D6="MU10"),COUNTIF(D$2:D6,"M*"),"") -> 5 | AD6: =IF(OR(D6="MU23",D6="MU20",D6="MU18",D6="MU16",D6="MU14",D6="MU12",D6="MU10"),COUNTIF(D$2:D6,"MU*"),"") | AE6: {=IF(OR(D6="MU20",D6="MU18",D6="MU16",D6="MU14",D6="MU12",D6="MU10"),SUM(COUNTIF(D$2:D6,{"MU20","MU18","MU16","MU14","MU12","MU10"})),"")} | AF6: {=IF(OR(D6="MU18",D6="MU16",D6="MU14",D6="MU12",D6="MU10"),SUM(COUNTIF(D$2:D6,{"MU18","MU16","MU14","MU12","MU10"})),"")} | AG6: =IF(OR(D6="MU16"),COUNTIF(D$2:D6,"MU16"),"") | AH6: =IF(OR(D6="MU14"),COUNTIF(D$2:D6,"MU14"),"") | AI6: =IF(OR(D6="MU12"),COUNTIF(D$2:D6,"MU12"),"") | AJ6: =IF(OR(D6="MU10"),COUNTIF(D$2:D6,"MU10"),"") | AK6: =IF(OR(D6="MV40",D6="MV50",D6="MV60",D6="MV70",D6="MV80"),COUNTIF(D$2:D6,"MV*"),"") | AL6: =IF(OR(D6="MV50",D6="MV60",D6="MV70",D6="MV80"),COUNTIF(D$2:D6,"MV50")+COUNTIF(D$2:D6,"MV60")+COUNTIF(D$2:D6,"MV70")+COUNTIF(D$2:D6,"MV80"),"") | AM6: =IF(OR(D6="MV60",D6="MV70",D6="MV80"),COUNTIF(D$2:D6,"MV60")+COUNTIF(D$2:D6,"MV70")+COUNTIF(D$2:D6,"MV80"),"") | AN6: =IF(OR(D6="MV70",D6="MV80"),COUNTIF(D$2:D6,"MV70")+COUNTIF(D$2:D6,"MV80"),"") | AO6: =IF(OR(D6="FSEN",D6="FV40",D6="FV50",D6="FV60",D6="FV70",D6="FV80",D6="FU23",D6="FU20",D6="FU18",D6="FU16",D6="FU14",D6="FU12",D6="FU10"),COUNTIF(D$2:D6,"F*"),"") | AP6: =IF(OR(D6="FU23",D6="FU20",D6="FU18",D6="FU16",D6="FU14",D6="FU12",D6="FU10"),COUNTIF(D$2:D6,"FU*"),"") | AQ6: {=IF(OR(D6="FU20",D6="FU18",D6="FU16",D6="FU14",D6="FU12",D6="FU10"),SUM(COUNTIF(D$2:D6,{"FU20","FU18","FU16","FU14","FU12","FU10"})),"")} | AR6: {=IF(OR(D6="FU18",D6="FU16",D6="FU14",D6="FU12",D6="FU10"),SUM(COUNTIF(D$2:D6,{"FU18","FU16","FU14","FU12","FU10"})),"")} | AS6: =IF(OR(D6="FU16"),COUNTIF(D$2:D6,"FU16"),"") | AT6: =IF(OR(D6="FU14"),COUNTIF(D$2:D6,"FU14"),"") | AU6: =IF(OR(D6="FU12"),COUNTIF(D$2:D6,"FU12"),"") | AV6: =IF(OR(D6="FU10"),COUNTIF(D$2:D6,"FU10"),"") | AW6: =IF(OR(D6="FV40",D6="FV50",D6="FV60",D6="FV70",D6="FV80"),COUNTIF(D$2:D6,"FV*"),"") | AX6: =IF(OR(D6="FV50",D6="FV60",D6="FV70",D6="FV80"),COUNTIF(D$2:D6,"FV50")+COUNTIF(D$2:D6,"FV60")+COUNTIF(D$2:D6,"FV70")+COUNTIF(D$2:D6,"FV80"),"") | AY6: =IF(OR(D6="FV60",D6="FV70",D6="FV80"),COUNTIF(D$2:D6,"FV60")+COUNTIF(D$2:D6,"FV70")+COUNTIF(D$2:D6,"FV80"),"") | AZ6: =IF(OR(D6="FV70",D6="FV80"),COUNTIF(D$2:D6,"FV70")+COUNTIF(D$2:D6,"FV80"),"")
A7: 6 | B7: Mike Rudd | C7: Northern Fells Running Club | D7: MV50 | E7: 0.065462963 | F7: =LEFT(D7,1) -> M | G7: =IF(OR(C7="",C7=" ",C7="FRA",C7="unattached",C7="(no club)",F7="F"),"",COUNTIFS(C$2:C7,C7,D$2:D7,"M*")) -> 1 | H7: =IF(G7="","",C7&G7) -> Northern Fells Running Club1 | I7: =IF(G7=3,C7,"") | J7: =IF($I7="","",_xlfn.XLOOKUP($I7&"1",H$2:H$201,B$2:B$201)) | K7: =IF($I7="","",_xlfn.XLOOKUP($I7&"1",H$2:H$201,AC$2:AC$201)) | L7: =IF(I7="","",_xlfn.XLOOKUP(I7&"2",H$2:H$201,B$2:B$201)) | M7: =IF($I7="","",_xlfn.XLOOKUP($I7&"2",H$2:H$201,AC$2:AC$201)) | N7: =IF(I7="","",_xlfn.XLOOKUP(I7&"3",H$2:H$201,B$2:B$201)) | O7: =IF($I7="","",_xlfn.XLOOKUP($I7&"3",H$2:H$201,AC$2:AC$201)) | P7: =IF(I7="","",K7+M7+O7) | Q7: =IF(P7="","",RANK(P7,P$2:P$201,1)) | R7: =IF(OR(C7="",C7=" ",C7="FRA",C7="unattached",C7="(no club)",F7="M"),"",COUNTIFS(C$2:C7,C7,D$2:D7,"F*")) | S7: =IF(R7="","",C7&R7) | T7: =IF(R7=3,C7,"") | U7: =IF(T7="","",_xlfn.XLOOKUP(T7&"1",S$2:S$201,B$2:B$201)) | V7: =IF($T7="","",_xlfn.XLOOKUP($T7&"1",S$2:S$201,AO$2:AO$201)) | W7: =IF(T7="","",_xlfn.XLOOKUP(T7&"2",S$2:S$201,B$2:B$201)) | X7: =IF($T7="","",_xlfn.XLOOKUP($T7&"2",S$2:S$201,AO$2:AO$201)) | Y7: =IF(T7="","",_xlfn.XLOOKUP(T7&"3",S$2:S$201,B$2:B$201)) | Z7: =IF($T7="","",_xlfn.XLOOKUP($T7&"3",S$2:S$201,AO$2:AO$201)) | AA7: =IF(T7="","",V7+X7+Z7) | AB7: =IF(AA7="","",RANK(AA7,AA$2:AA$201,1)) | AC7: =IF(OR(D7="MSEN",D7="MV40",D7="MV50",D7="MV60",D7="MV70",D7="MV80",D7="MU23",D7="MU20",D7="MU18",D7="MU16",D7="MU14",D7="MU12",D7="MU10"),COUNTIF(D$2:D7,"M*"),"") -> 6 | AD7: =IF(OR(D7="MU23",D7="MU20",D7="MU18",D7="MU16",D7="MU14",D7="MU12",D7="MU10"),COUNTIF(D$2:D7,"MU*"),"") | AE7: {=IF(OR(D7="MU20",D7="MU18",D7="MU16",D7="MU14",D7="MU12",D7="MU10"),SUM(COUNTIF(D$2:D7,{"MU20","MU18","MU16","MU14","MU12","MU10"})),"")} | AF7: {=IF(OR(D7="MU18",D7="MU16",D7="MU14",D7="MU12",D7="MU10"),SUM(COUNTIF(D$2:D7,{"MU18","MU16","MU14","MU12","MU10"})),"")} | AG7: =IF(OR(D7="MU16"),COUNTIF(D$2:D7,"MU16"),"") | AH7: =IF(OR(D7="MU14"),COUNTIF(D$2:D7,"MU14"),"") | AI7: =IF(OR(D7="MU12"),COUNTIF(D$2:D7,"MU12"),"") | AJ7: =IF(OR(D7="MU10"),COUNTIF(D$2:D7,"MU10"),"") | AK7: =IF(OR(D7="MV40",D7="MV50",D7="MV60",D7="MV70",D7="MV80"),COUNTIF(D$2:D7,"MV*"),"") -> 3 | AL7: =IF(OR(D7="MV50",D7="MV60",D7="MV70",D7="MV80"),COUNTIF(D$2:D7,"MV50")+COUNTIF(D$2:D7,"MV60")+COUNTIF(D$2:D7,"MV70")+COUNTIF(D$2:D7,"MV80"),"") -> 2 | AM7: =IF(OR(D7="MV60",D7="MV70",D7="MV80"),COUNTIF(D$2:D7,"MV60")+COUNTIF(D$2:D7,"MV70")+COUNTIF(D$2:D7,"MV80"),"") | AN7: =IF(OR(D7="MV70",D7="MV80"),COUNTIF(D$2:D7,"MV70")+COUNTIF(D$2:D7,"MV80"),"") | AO7: =IF(OR(D7="FSEN",D7="FV40",D7="FV50",D7="FV60",D7="FV70",D7="FV80",D7="FU23",D7="FU20",D7="FU18",D7="FU16",D7="FU14",D7="FU12",D7="FU10"),COUNTIF(D$2:D7,"F*"),"") | AP7: =IF(OR(D7="FU23",D7="FU20",D7="FU18",D7="FU16",D7="FU14",D7="FU12",D7="FU10"),COUNTIF(D$2:D7,"FU*"),"") | AQ7: {=IF(OR(D7="FU20",D7="FU18",D7="FU16",D7="FU14",D7="FU12",D7="FU10"),SUM(COUNTIF(D$2:D7,{"FU20","FU18","FU16","FU14","FU12","FU10"})),"")} | AR7: {=IF(OR(D7="FU18",D7="FU16",D7="FU14",D7="FU12",D7="FU10"),SUM(COUNTIF(D$2:D7,{"FU18","FU16","FU14","FU12","FU10"})),"")} | AS7: =IF(OR(D7="FU16"),COUNTIF(D$2:D7,"FU16"),"") | AT7: =IF(OR(D7="FU14"),COUNTIF(D$2:D7,"FU14"),"") | AU7: =IF(OR(D7="FU12"),COUNTIF(D$2:D7,"FU12"),"") | AV7: =IF(OR(D7="FU10"),COUNTIF(D$2:D7,"FU10"),"") | AW7: =IF(OR(D7="FV40",D7="FV50",D7="FV60",D7="FV70",D7="FV80"),COUNTIF(D$2:D7,"FV*"),"") | AX7: =IF(OR(D7="FV50",D7="FV60",D7="FV70",D7="FV80"),COUNTIF(D$2:D7,"FV50")+COUNTIF(D$2:D7,"FV60")+COUNTIF(D$2:D7,"FV70")+COUNTIF(D$2:D7,"FV80"),"") | AY7: =IF(OR(D7="FV60",D7="FV70",D7="FV80"),COUNTIF(D$2:D7,"FV60")+COUNTIF(D$2:D7,"FV70")+COUNTIF(D$2:D7,"FV80"),"") | AZ7: =IF(OR(D7="FV70",D7="FV80"),COUNTIF(D$2:D7,"FV70")+COUNTIF(D$2:D7,"FV80"),"")
A8: 7 | B8: Kester Webb | C8: Keswick AC | D8: MSEN | E8: 0.0665625 | F8: =LEFT(D8,1) -> M | G8: =IF(OR(C8="",C8=" ",C8="FRA",C8="unattached",C8="(no club)",F8="F"),"",COUNTIFS(C$2:C8,C8,D$2:D8,"M*")) -> 3 | H8: =IF(G8="","",C8&G8) -> Keswick AC3 | I8: =IF(G8=3,C8,"") -> Keswick AC | J8: =IF($I8="","",_xlfn.XLOOKUP($I8&"1",H$2:H$201,B$2:B$201)) -> Steve Hebblethwaite | K8: =IF($I8="","",_xlfn.XLOOKUP($I8&"1",H$2:H$201,AC$2:AC$201)) -> 1 | L8: =IF(I8="","",_xlfn.XLOOKUP(I8&"2",H$2:H$201,B$2:B$201)) -> James Turnbull | M8: =IF($I8="","",_xlfn.XLOOKUP($I8&"2",H$2:H$201,AC$2:AC$201)) -> 4 | N8: =IF(I8="","",_xlfn.XLOOKUP(I8&"3",H$2:H$201,B$2:B$201)) -> Kester Webb | O8: =IF($I8="","",_xlfn.XLOOKUP($I8&"3",H$2:H$201,AC$2:AC$201)) -> 7 | P8: =IF(I8="","",K8+M8+O8) -> 12 | Q8: =IF(P8="","",RANK(P8,P$2:P$201,1)) -> 1 | R8: =IF(OR(C8="",C8=" ",C8="FRA",C8="unattached",C8="(no club)",F8="M"),"",COUNTIFS(C$2:C8,C8,D$2:D8,"F*")) | S8: =IF(R8="","",C8&R8) | T8: =IF(R8=3,C8,"") | U8: =IF(T8="","",_xlfn.XLOOKUP(T8&"1",S$2:S$201,B$2:B$201)) | V8: =IF($T8="","",_xlfn.XLOOKUP($T8&"1",S$2:S$201,AO$2:AO$201)) | W8: =IF(T8="","",_xlfn.XLOOKUP(T8&"2",S$2:S$201,B$2:B$201)) | X8: =IF($T8="","",_xlfn.XLOOKUP($T8&"2",S$2:S$201,AO$2:AO$201)) | Y8: =IF(T8="","",_xlfn.XLOOKUP(T8&"3",S$2:S$201,B$2:B$201)) | Z8: =IF($T8="","",_xlfn.XLOOKUP($T8&"3",S$2:S$201,AO$2:AO$201)) | AA8: =IF(T8="","",V8+X8+Z8) | AB8: =IF(AA8="","",RANK(AA8,AA$2:AA$201,1)) | AC8: =IF(OR(D8="MSEN",D8="MV40",D8="MV50",D8="MV60",D8="MV70",D8="MV80",D8="MU23",D8="MU20",D8="MU18",D8="MU16",D8="MU14",D8="MU12",D8="MU10"),COUNTIF(D$2:D8,"M*"),"") -> 7 | AD8: =IF(OR(D8="MU23",D8="MU20",D8="MU18",D8="MU16",D8="MU14",D8="MU12",D8="MU10"),COUNTIF(D$2:D8,"MU*"),"") | AE8: {=IF(OR(D8="MU20",D8="MU18",D8="MU16",D8="MU14",D8="MU12",D8="MU10"),SUM(COUNTIF(D$2:D8,{"MU20","MU18","MU16","MU14","MU12","MU10"})),"")} | AF8: {=IF(OR(D8="MU18",D8="MU16",D8="MU14",D8="MU12",D8="MU10"),SUM(COUNTIF(D$2:D8,{"MU18","MU16","MU14","MU12","MU10"})),"")} | AG8: =IF(OR(D8="MU16"),COUNTIF(D$2:D8,"MU16"),"") | AH8: =IF(OR(D8="MU14"),COUNTIF(D$2:D8,"MU14"),"") | AI8: =IF(OR(D8="MU12"),COUNTIF(D$2:D8,"MU12"),"") | AJ8: =IF(OR(D8="MU10"),COUNTIF(D$2:D8,"MU10"),"") | AK8: =IF(OR(D8="MV40",D8="MV50",D8="MV60",D8="MV70",D8="MV80"),COUNTIF(D$2:D8,"MV*"),"") | AL8: =IF(OR(D8="MV50",D8="MV60",D8="MV70",D8="MV80"),COUNTIF(D$2:D8,"MV50")+COUNTIF(D$2:D8,"MV60")+COUNTIF(D$2:D8,"MV70")+COUNTIF(D$2:D8,"MV80"),"") | AM8: =IF(OR(D8="MV60",D8="MV70",D8="MV80"),COUNTIF(D$2:D8,"MV60")+COUNTIF(D$2:D8,"MV70")+COUNTIF(D$2:D8,"MV80"),"") | AN8: =IF(OR(D8="MV70",D8="MV80"),COUNTIF(D$2:D8,"MV70")+COUNTIF(D$2:D8,"MV80"),"") | AO8: =IF(OR(D8="FSEN",D8="FV40",D8="FV50",D8="FV60",D8="FV70",D8="FV80",D8="FU23",D8="FU20",D8="FU18",D8="FU16",D8="FU14",D8="FU12",D8="FU10"),COUNTIF(D$2:D8,"F*"),"") | AP8: =IF(OR(D8="FU23",D8="FU20",D8="FU18",D8="FU16",D8="FU14",D8="FU12",D8="FU10"),COUNTIF(D$2:D8,"FU*"),"") | AQ8: {=IF(OR(D8="FU20",D8="FU18",D8="FU16",D8="FU14",D8="FU12",D8="FU10"),SUM(COUNTIF(D$2:D8,{"FU20","FU18","FU16","FU14","FU12","FU10"})),"")} | AR8: {=IF(OR(D8="FU18",D8="FU16",D8="FU14",D8="FU12",D8="FU10"),SUM(COUNTIF(D$2:D8,{"FU18","FU16","FU14","FU12","FU10"})),"")} | AS8: =IF(OR(D8="FU16"),COUNTIF(D$2:D8,"FU16"),"") | AT8: =IF(OR(D8="FU14"),COUNTIF(D$2:D8,"FU14"),"") | AU8: =IF(OR(D8="FU12"),COUNTIF(D$2:D8,"FU12"),"") | AV8: =IF(OR(D8="FU10"),COUNTIF(D$2:D8,"FU10"),"") | AW8: =IF(OR(D8="FV40",D8="FV50",D8="FV60",D8="FV70",D8="FV80"),COUNTIF(D$2:D8,"FV*"),"") | AX8: =IF(OR(D8="FV50",D8="FV60",D8="FV70",D8="FV80"),COUNTIF(D$2:D8,"FV50")+COUNTIF(D$2:D8,"FV60")+COUNTIF(D$2:D8,"FV70")+COUNTIF(D$2:D8,"FV80"),"") | AY8: =IF(OR(D8="FV60",D8="FV70",D8="FV80"),COUNTIF(D$2:D8,"FV60")+COUNTIF(D$2:D8,"FV70")+COUNTIF(D$2:D8,"FV80"),"") | AZ8: =IF(OR(D8="FV70",D8="FV80"),COUNTIF(D$2:D8,"FV70")+COUNTIF(D$2:D8,"FV80"),"")
